BEGIN:VCALENDAR
VERSION:2.0
PRODID:-//Commune de Stetten - ECPv6.15.13//NONSGML v1.0//EN
CALSCALE:GREGORIAN
METHOD:PUBLISH
X-ORIGINAL-URL:https://www.stetten.fr
X-WR-CALDESC:Évènements pour Commune de Stetten
REFRESH-INTERVAL;VALUE=DURATION:PT1H
X-Robots-Tag:noindex
X-PUBLISHED-TTL:PT1H
BEGIN:VTIMEZONE
TZID:Europe/Paris
BEGIN:DAYLIGHT
TZOFFSETFROM:+0100
TZOFFSETTO:+0200
TZNAME:CEST
DTSTART:20250330T010000
END:DAYLIGHT
BEGIN:STANDARD
TZOFFSETFROM:+0200
TZOFFSETTO:+0100
TZNAME:CET
DTSTART:20251026T010000
END:STANDARD
BEGIN:DAYLIGHT
TZOFFSETFROM:+0100
TZOFFSETTO:+0200
TZNAME:CEST
DTSTART:20260329T010000
END:DAYLIGHT
BEGIN:STANDARD
TZOFFSETFROM:+0200
TZOFFSETTO:+0100
TZNAME:CET
DTSTART:20261025T010000
END:STANDARD
BEGIN:DAYLIGHT
TZOFFSETFROM:+0100
TZOFFSETTO:+0200
TZNAME:CEST
DTSTART:20270328T010000
END:DAYLIGHT
BEGIN:STANDARD
TZOFFSETFROM:+0200
TZOFFSETTO:+0100
TZNAME:CET
DTSTART:20271031T010000
END:STANDARD
END:VTIMEZONE
BEGIN:VEVENT
DTSTART;TZID=Europe/Paris:20260306T200000
DTEND;TZID=Europe/Paris:20260306T220000
DTSTAMP:20260419T190035
CREATED:20260216T082021Z
LAST-MODIFIED:20260216T082029Z
UID:1799-1772827200-1772834400@www.stetten.fr
SUMMARY:Ciné : L’âme idéale
DESCRIPTION:Film de : Alice Vial\nAvec : Magalie Lepine Blondeau\, Jonathan Cohen..\nComédie fantastique\, Romance\nDurée : 1h38\nElsa\, 40 ans\, célibataire\, a renoncé aux histoires d’amour. \nUn don un peu spécial la garde à distance des autres : elle peut voir et parler aux morts. \nPourtant un soir elle rencontre Oscar\, un homme drôle et charmant\, qui lui fait espérer à nouveau que tout est possible. \nMais au moment où elle commence enfin à tomber amoureuse\, Elsa réalise que leur histoire n’est pas aussi réelle que ce qu’elle pensait…\n \n\n20h00: Ouverture du bar\n20h30: Film
URL:https://www.stetten.fr/event/cine-lame-ideale/
LOCATION:Salle polyvalente\, 5 rue des vignes\, Stetten\, 68510\, France
CATEGORIES:Cinéma
END:VEVENT
BEGIN:VEVENT
DTSTART;TZID=Europe/Paris:20260315T080000
DTEND;TZID=Europe/Paris:20260315T170000
DTSTAMP:20260419T190035
CREATED:20260104T151504Z
LAST-MODIFIED:20260104T151504Z
UID:1770-1773561600-1773594000@www.stetten.fr
SUMMARY:Élections municipales
DESCRIPTION:1er tour.
URL:https://www.stetten.fr/event/elections-municipales/
LOCATION:L’Entracte\, 6 rue du Général de Gaulle\, Stetten\, 68510\, France
END:VEVENT
BEGIN:VEVENT
DTSTART;TZID=Europe/Paris:20260322T080000
DTEND;TZID=Europe/Paris:20260322T170000
DTSTAMP:20260419T190035
CREATED:20260104T151537Z
LAST-MODIFIED:20260104T151537Z
UID:1772-1774166400-1774198800@www.stetten.fr
SUMMARY:Élections municipales
DESCRIPTION:2nd tour.
URL:https://www.stetten.fr/event/elections-municipales-2/
LOCATION:L’Entracte\, 6 rue du Général de Gaulle\, Stetten\, 68510\, France
END:VEVENT
END:VCALENDAR