BEGIN:VCALENDAR
VERSION:2.0
PRODID:-//Commune de Stetten - ECPv6.15.13//NONSGML v1.0//EN
CALSCALE:GREGORIAN
METHOD:PUBLISH
X-WR-CALNAME:Commune de Stetten
X-ORIGINAL-URL:https://www.stetten.fr
X-WR-CALDESC:Évènements pour Commune de Stetten
REFRESH-INTERVAL;VALUE=DURATION:PT1H
X-Robots-Tag:noindex
X-PUBLISHED-TTL:PT1H
BEGIN:VTIMEZONE
TZID:Europe/Paris
BEGIN:DAYLIGHT
TZOFFSETFROM:+0100
TZOFFSETTO:+0200
TZNAME:CEST
DTSTART:20250330T010000
END:DAYLIGHT
BEGIN:STANDARD
TZOFFSETFROM:+0200
TZOFFSETTO:+0100
TZNAME:CET
DTSTART:20251026T010000
END:STANDARD
BEGIN:DAYLIGHT
TZOFFSETFROM:+0100
TZOFFSETTO:+0200
TZNAME:CEST
DTSTART:20260329T010000
END:DAYLIGHT
BEGIN:STANDARD
TZOFFSETFROM:+0200
TZOFFSETTO:+0100
TZNAME:CET
DTSTART:20261025T010000
END:STANDARD
BEGIN:DAYLIGHT
TZOFFSETFROM:+0100
TZOFFSETTO:+0200
TZNAME:CEST
DTSTART:20270328T010000
END:DAYLIGHT
BEGIN:STANDARD
TZOFFSETFROM:+0200
TZOFFSETTO:+0100
TZNAME:CET
DTSTART:20271031T010000
END:STANDARD
END:VTIMEZONE
BEGIN:VEVENT
DTSTART;TZID=Europe/Paris:20260206T200000
DTEND;TZID=Europe/Paris:20260206T220000
DTSTAMP:20260419T203155
CREATED:20260104T151336Z
LAST-MODIFIED:20260201T202827Z
UID:1766-1770408000-1770415200@www.stetten.fr
SUMMARY:Ciné : La Femme de Ménage
DESCRIPTION:Film de : Paul Fegg\nAvec : Sydney Sweeney\, Amanda de Seyfried\, Brandon Sklenar\nDurée : 2h13\nAn quête d’un nouveau départ\, Millie accepte un poste de femme de ménage à demeure chez Nina et Andrew Winchester\, un couple aussi riche qu’énigmatique.\nCe qui s’annonce comme l’emploi idéal se transforme rapidement en un jeu dangereux\, mêlant séduction\, secrets et manipulations.\nDerrière les portes closes du manoir Winchester se cache un monde de faux-semblants et de révélations inattendues…\nUn tourbillon de suspense etde scandales qui vous tiendra en haleine jusqu’à la dernière second\n \n\n20h00: Ouverture du bar\n20h30: Film
URL:https://www.stetten.fr/event/cine-24/
LOCATION:Salle polyvalente\, 5 rue des vignes\, Stetten\, 68510\, France
CATEGORIES:Cinéma
END:VEVENT
BEGIN:VEVENT
DTSTART;TZID=Europe/Paris:20260212T140000
DTEND;TZID=Europe/Paris:20260212T180000
DTSTAMP:20260419T203155
CREATED:20260104T151227Z
LAST-MODIFIED:20260104T151227Z
UID:1760-1770904800-1770919200@www.stetten.fr
SUMMARY:Rencontre des aînés
DESCRIPTION:
URL:https://www.stetten.fr/event/rencontre-des-aines-62/
LOCATION:L’Entracte\, 6 rue du Général de Gaulle\, Stetten\, 68510\, France
END:VEVENT
BEGIN:VEVENT
DTSTART;TZID=Europe/Paris:20260220T200000
DTEND;TZID=Europe/Paris:20260220T220000
DTSTAMP:20260419T203155
CREATED:20260104T151421Z
LAST-MODIFIED:20260201T203049Z
UID:1768-1771617600-1771624800@www.stetten.fr
SUMMARY:Ciné : L’affaire Bojarski
DESCRIPTION:Fim de Jean-Paul Salomé\nAvec : Redi Kateb\, Sara Giraudeau\, Bastien Bouillon..\nDurée : 2h00\nJan Bojarski\, jeune ingénieur polonais\, se réfugie en France pendant la guerre. Il y utilise ses dons pour fabriquer des faux papiers pendant l’occupation allemande. Après la guerre\, son absence d’état civill’empêche de déposer les brevets de ses nombreuses inventions et il est limité à des petits boulots mal rémunérés… jusqu’au jour où un gangster lui propose d’utiliser ses talents exceptionnels pour fabriquer des faux billets. Démarre alors pour lui une double vie à l’insu de sa famille. Très vite\, il se retrouve dans le viseur de l’inspecteur Mattei\, meilleur flic de France.\n \n\n20h00: Ouverture du bar\n20h30: Film
URL:https://www.stetten.fr/event/cine-25/
LOCATION:Salle polyvalente\, 5 rue des vignes\, Stetten\, 68510\, France
CATEGORIES:Cinéma
END:VEVENT
BEGIN:VEVENT
DTSTART;TZID=Europe/Paris:20260226T140000
DTEND;TZID=Europe/Paris:20260226T180000
DTSTAMP:20260419T203155
CREATED:20260104T151247Z
LAST-MODIFIED:20260104T151247Z
UID:1762-1772114400-1772128800@www.stetten.fr
SUMMARY:Rencontre des aînés
DESCRIPTION:
URL:https://www.stetten.fr/event/rencontre-des-aines-63/
LOCATION:L’Entracte\, 6 rue du Général de Gaulle\, Stetten\, 68510\, France
END:VEVENT
END:VCALENDAR