BEGIN:VCALENDAR
VERSION:2.0
PRODID:-//Commune de Stetten - ECPv6.15.13//NONSGML v1.0//EN
CALSCALE:GREGORIAN
METHOD:PUBLISH
X-WR-CALNAME:Commune de Stetten
X-ORIGINAL-URL:https://www.stetten.fr
X-WR-CALDESC:Évènements pour Commune de Stetten
REFRESH-INTERVAL;VALUE=DURATION:PT1H
X-Robots-Tag:noindex
X-PUBLISHED-TTL:PT1H
BEGIN:VTIMEZONE
TZID:Europe/Paris
BEGIN:DAYLIGHT
TZOFFSETFROM:+0100
TZOFFSETTO:+0200
TZNAME:CEST
DTSTART:20250330T010000
END:DAYLIGHT
BEGIN:STANDARD
TZOFFSETFROM:+0200
TZOFFSETTO:+0100
TZNAME:CET
DTSTART:20251026T010000
END:STANDARD
BEGIN:DAYLIGHT
TZOFFSETFROM:+0100
TZOFFSETTO:+0200
TZNAME:CEST
DTSTART:20260329T010000
END:DAYLIGHT
BEGIN:STANDARD
TZOFFSETFROM:+0200
TZOFFSETTO:+0100
TZNAME:CET
DTSTART:20261025T010000
END:STANDARD
BEGIN:DAYLIGHT
TZOFFSETFROM:+0100
TZOFFSETTO:+0200
TZNAME:CEST
DTSTART:20270328T010000
END:DAYLIGHT
BEGIN:STANDARD
TZOFFSETFROM:+0200
TZOFFSETTO:+0100
TZNAME:CET
DTSTART:20271031T010000
END:STANDARD
END:VTIMEZONE
BEGIN:VEVENT
DTSTART;TZID=Europe/Paris:20260108T140000
DTEND;TZID=Europe/Paris:20260108T180000
DTSTAMP:20260419T222019
CREATED:20260104T150533Z
LAST-MODIFIED:20260104T150533Z
UID:1754-1767880800-1767895200@www.stetten.fr
SUMMARY:Rencontre des aînés
DESCRIPTION:
URL:https://www.stetten.fr/event/rencontre-des-aines-60/
LOCATION:L’Entracte\, 6 rue du Général de Gaulle\, Stetten\, 68510\, France
END:VEVENT
BEGIN:VEVENT
DTSTART;TZID=Europe/Paris:20260109T200000
DTEND;TZID=Europe/Paris:20260109T220000
DTSTAMP:20260419T222019
CREATED:20260104T150458Z
LAST-MODIFIED:20260104T201835Z
UID:1752-1767988800-1767996000@www.stetten.fr
SUMMARY:Ciné : Dossier 137
DESCRIPTION:DOSSIER 137\nPolicier\nFilm de Domonik Moll\nAvec: Léa Drucker\, Guslagie MalanDa\, Mathilde Roehrich..\nDurée: 1h55\nLe dossier 137 est en apparence une affaire de plus pour Stéphanie\, enquêtrice à l’IGPN\, la police des polices. \nUne manifestation tendue\, un jeune homme blessé par un tir de LBD\, des circonstances à éclaircir pour établir une responsabilité… \nMais un élément inattendu va troubler Stéphanie\, pour qui le dossier 137 devient autre chose qu’un simple numéro.\n\n \n\n20h00: Ouverture du bar\n20h30: Film
URL:https://www.stetten.fr/event/cine-22/
LOCATION:Salle polyvalente\, 5 rue des vignes\, Stetten\, 68510\, France
CATEGORIES:Cinéma
END:VEVENT
BEGIN:VEVENT
DTSTART;TZID=Europe/Paris:20260111T110000
DTEND;TZID=Europe/Paris:20260111T120000
DTSTAMP:20260419T222019
CREATED:20251002T193810Z
LAST-MODIFIED:20251002T193810Z
UID:1743-1768129200-1768132800@www.stetten.fr
SUMMARY:Voeux de Mme le Maire & repas des aînés
DESCRIPTION:
URL:https://www.stetten.fr/event/voeux-de-mme-le-maire-repas-des-aines-3/
LOCATION:Salle polyvalente\, 5 rue des vignes\, Stetten\, 68510\, France
END:VEVENT
BEGIN:VEVENT
DTSTART;TZID=Europe/Paris:20260116T140000
DTEND;TZID=Europe/Paris:20260116T170000
DTSTAMP:20260419T222019
CREATED:20260104T151134Z
LAST-MODIFIED:20260104T151607Z
UID:1756-1768572000-1768582800@www.stetten.fr
SUMMARY:Spectacle de l'école
DESCRIPTION:
URL:https://www.stetten.fr/event/spectacle-de-lecole/
LOCATION:Salle polyvalente\, 5 rue des vignes\, Stetten\, 68510\, France
END:VEVENT
BEGIN:VEVENT
DTSTART;TZID=Europe/Paris:20260122T140000
DTEND;TZID=Europe/Paris:20260122T180000
DTSTAMP:20260419T222019
CREATED:20260104T151203Z
LAST-MODIFIED:20260104T151203Z
UID:1758-1769090400-1769104800@www.stetten.fr
SUMMARY:Rencontre des aînés
DESCRIPTION:
URL:https://www.stetten.fr/event/rencontre-des-aines-61/
LOCATION:L’Entracte\, 6 rue du Général de Gaulle\, Stetten\, 68510\, France
END:VEVENT
BEGIN:VEVENT
DTSTART;TZID=Europe/Paris:20260123T200000
DTEND;TZID=Europe/Paris:20260123T220000
DTSTAMP:20260419T222019
CREATED:20260104T151317Z
LAST-MODIFIED:20260104T202209Z
UID:1764-1769198400-1769205600@www.stetten.fr
SUMMARY:Ciné : Le chant des forêts
DESCRIPTION:LE CHANT DES FORÊTS\nFilm : Vincent Munier\nAvec : Vincent Munier\nAprès La Panthère des neiges\, Vincent Munier nous invite au coeur des forêts des Vosges. \nC’est ici qu’il a tout appris grâce à son père Michel\, naturaliste\, ayant passé sa vie à l’affut dans les bois. Il est l’heure pour eux de transmettre ce savoir à Simon\, le fils de Vincent. \nTrois regards\, trois générations\, une même fascination pour la vie sauvage. \nNous découvrirons avec eux cerfs\, oiseaux rares\, renards et lynx… et parfois\, le battement d’ailes d’un animal légendaire : le Grand Tétras.\n\n \n\n20h00: Ouverture du bar\n20h30: Film
URL:https://www.stetten.fr/event/cine-23/
LOCATION:Salle polyvalente\, 5 rue des vignes\, Stetten\, 68510\, France
CATEGORIES:Cinéma
END:VEVENT
END:VCALENDAR