BEGIN:VCALENDAR
VERSION:2.0
PRODID:-//Commune de Stetten - ECPv6.15.13//NONSGML v1.0//EN
CALSCALE:GREGORIAN
METHOD:PUBLISH
X-WR-CALNAME:Commune de Stetten
X-ORIGINAL-URL:https://www.stetten.fr
X-WR-CALDESC:Évènements pour Commune de Stetten
REFRESH-INTERVAL;VALUE=DURATION:PT1H
X-Robots-Tag:noindex
X-PUBLISHED-TTL:PT1H
BEGIN:VTIMEZONE
TZID:Europe/Paris
BEGIN:DAYLIGHT
TZOFFSETFROM:+0100
TZOFFSETTO:+0200
TZNAME:CEST
DTSTART:20240331T010000
END:DAYLIGHT
BEGIN:STANDARD
TZOFFSETFROM:+0200
TZOFFSETTO:+0100
TZNAME:CET
DTSTART:20241027T010000
END:STANDARD
BEGIN:DAYLIGHT
TZOFFSETFROM:+0100
TZOFFSETTO:+0200
TZNAME:CEST
DTSTART:20250330T010000
END:DAYLIGHT
BEGIN:STANDARD
TZOFFSETFROM:+0200
TZOFFSETTO:+0100
TZNAME:CET
DTSTART:20251026T010000
END:STANDARD
BEGIN:DAYLIGHT
TZOFFSETFROM:+0100
TZOFFSETTO:+0200
TZNAME:CEST
DTSTART:20260329T010000
END:DAYLIGHT
BEGIN:STANDARD
TZOFFSETFROM:+0200
TZOFFSETTO:+0100
TZNAME:CET
DTSTART:20261025T010000
END:STANDARD
END:VTIMEZONE
BEGIN:VEVENT
DTSTART;TZID=Europe/Paris:20251205T200000
DTEND;TZID=Europe/Paris:20251205T220000
DTSTAMP:20260420T000110
CREATED:20251002T191809Z
LAST-MODIFIED:20251002T191809Z
UID:1737-1764964800-1764972000@www.stetten.fr
SUMMARY:Ciné
DESCRIPTION:
URL:https://www.stetten.fr/event/cine-20/
LOCATION:Salle polyvalente\, 5 rue des vignes\, Stetten\, 68510\, France
CATEGORIES:Cinéma
END:VEVENT
BEGIN:VEVENT
DTSTART;TZID=Europe/Paris:20251207T140000
DTEND;TZID=Europe/Paris:20251207T190000
DTSTAMP:20260420T000110
CREATED:20251002T191740Z
LAST-MODIFIED:20251002T191740Z
UID:1738-1765116000-1765134000@www.stetten.fr
SUMMARY:Saint-Nicolas
DESCRIPTION:
URL:https://www.stetten.fr/event/saint-nicolas-4/
LOCATION:Salle polyvalente\, 5 rue des vignes\, Stetten\, 68510\, France
END:VEVENT
BEGIN:VEVENT
DTSTART;TZID=Europe/Paris:20251211T140000
DTEND;TZID=Europe/Paris:20251211T180000
DTSTAMP:20260420T000110
CREATED:20251002T180003Z
LAST-MODIFIED:20251002T180003Z
UID:1725-1765461600-1765476000@www.stetten.fr
SUMMARY:Rencontre des aînés
DESCRIPTION:
URL:https://www.stetten.fr/event/rencontre-des-aines-59/
LOCATION:L’Entracte\, 6 rue du Général de Gaulle\, Stetten\, 68510\, France
END:VEVENT
BEGIN:VEVENT
DTSTART;TZID=Europe/Paris:20251219T200000
DTEND;TZID=Europe/Paris:20251219T220000
DTSTAMP:20260420T000110
CREATED:20251002T191836Z
LAST-MODIFIED:20251215T170016Z
UID:1741-1766174400-1766181600@www.stetten.fr
SUMMARY:Ciné : Joyeux Noël
DESCRIPTION:Le film aux 2 millions d’entrées fête ses 20 ans\nTrès beau film\, très émouvant qui relate l’histoire de noël 1914 où des soldats français\, écossais et allemands en l’espace d’une nuit ont oublié la guerre et …\n \nFilm de Christian Carlon\nAvec: Diane Kruger\, Guillaume Canet\, Dany Boon\n \n\n20h00: Ouverture du bar\n20h30: Film
URL:https://www.stetten.fr/event/cine-21/
LOCATION:Salle polyvalente\, 5 rue des vignes\, Stetten\, 68510\, France
CATEGORIES:Cinéma
END:VEVENT
END:VCALENDAR