BEGIN:VCALENDAR
VERSION:2.0
PRODID:-//Commune de Stetten - ECPv6.15.13//NONSGML v1.0//EN
CALSCALE:GREGORIAN
METHOD:PUBLISH
X-ORIGINAL-URL:https://www.stetten.fr
X-WR-CALDESC:Évènements pour Commune de Stetten
REFRESH-INTERVAL;VALUE=DURATION:PT1H
X-Robots-Tag:noindex
X-PUBLISHED-TTL:PT1H
BEGIN:VTIMEZONE
TZID:Europe/Paris
BEGIN:DAYLIGHT
TZOFFSETFROM:+0100
TZOFFSETTO:+0200
TZNAME:CEST
DTSTART:20240331T010000
END:DAYLIGHT
BEGIN:STANDARD
TZOFFSETFROM:+0200
TZOFFSETTO:+0100
TZNAME:CET
DTSTART:20241027T010000
END:STANDARD
BEGIN:DAYLIGHT
TZOFFSETFROM:+0100
TZOFFSETTO:+0200
TZNAME:CEST
DTSTART:20250330T010000
END:DAYLIGHT
BEGIN:STANDARD
TZOFFSETFROM:+0200
TZOFFSETTO:+0100
TZNAME:CET
DTSTART:20251026T010000
END:STANDARD
BEGIN:DAYLIGHT
TZOFFSETFROM:+0100
TZOFFSETTO:+0200
TZNAME:CEST
DTSTART:20260329T010000
END:DAYLIGHT
BEGIN:STANDARD
TZOFFSETFROM:+0200
TZOFFSETTO:+0100
TZNAME:CET
DTSTART:20261025T010000
END:STANDARD
END:VTIMEZONE
BEGIN:VEVENT
DTSTART;TZID=Europe/Paris:20250606T200000
DTEND;TZID=Europe/Paris:20250606T220000
DTSTAMP:20260420T093822
CREATED:20250604T110708Z
LAST-MODIFIED:20250604T110708Z
UID:1679-1749240000-1749247200@www.stetten.fr
SUMMARY:Ciné : Vingt Dieux
DESCRIPTION:César du Meilleur film\, Meilleure révélation féminine\, Meilleure musique originale et Meilleur scénario original \n\nFilm de Louise Courvoisier\nAvec: Clément Faveau\, Maîwene Barthelemy\, Luna Garret\nDurée : 1h30 \n\n\nTotone\, 18 ans\, passe le plus clair de son temps à boire des bières et écumer les bals du Jura avec sa bande de potes\n\nMais la réalité le rattrape : il doit s’occuper de sa petite sœur de 7 ans et trouver un moyen de gagner sa vie.\n Il se met alors en tête de fabriquer le meilleur comté de la région\, celui avec lequel il remporterait la médaille d’or du concours agricole et 30 000 euros.\n\n \n20h00: ouverture du bar\n20h30 : film
URL:https://www.stetten.fr/event/cine-vingt-dieux/
LOCATION:Salle polyvalente\, 5 rue des vignes\, Stetten\, 68510\, France
CATEGORIES:Cinéma
END:VEVENT
END:VCALENDAR