BEGIN:VCALENDAR
VERSION:2.0
PRODID:-//Commune de Stetten - ECPv6.15.13//NONSGML v1.0//EN
CALSCALE:GREGORIAN
METHOD:PUBLISH
X-ORIGINAL-URL:https://www.stetten.fr
X-WR-CALDESC:Évènements pour Commune de Stetten
REFRESH-INTERVAL;VALUE=DURATION:PT1H
X-Robots-Tag:noindex
X-PUBLISHED-TTL:PT1H
BEGIN:VTIMEZONE
TZID:Europe/Paris
BEGIN:DAYLIGHT
TZOFFSETFROM:+0100
TZOFFSETTO:+0200
TZNAME:CEST
DTSTART:20240331T010000
END:DAYLIGHT
BEGIN:STANDARD
TZOFFSETFROM:+0200
TZOFFSETTO:+0100
TZNAME:CET
DTSTART:20241027T010000
END:STANDARD
BEGIN:DAYLIGHT
TZOFFSETFROM:+0100
TZOFFSETTO:+0200
TZNAME:CEST
DTSTART:20250330T010000
END:DAYLIGHT
BEGIN:STANDARD
TZOFFSETFROM:+0200
TZOFFSETTO:+0100
TZNAME:CET
DTSTART:20251026T010000
END:STANDARD
BEGIN:DAYLIGHT
TZOFFSETFROM:+0100
TZOFFSETTO:+0200
TZNAME:CEST
DTSTART:20260329T010000
END:DAYLIGHT
BEGIN:STANDARD
TZOFFSETFROM:+0200
TZOFFSETTO:+0100
TZNAME:CET
DTSTART:20261025T010000
END:STANDARD
END:VTIMEZONE
BEGIN:VEVENT
DTSTART;TZID=Europe/Paris:20250509T200000
DTEND;TZID=Europe/Paris:20250509T220000
DTSTAMP:20260422T105925
CREATED:20250424T184936Z
LAST-MODIFIED:20250424T184936Z
UID:1666-1746820800-1746828000@www.stetten.fr
SUMMARY:Ciné : A bicyclette
DESCRIPTION:Comedie dramatique \n\nFilm de Mathieu Miekus\nAvec : Mathieu Miekus\, Philippe Rebot \n\nDurée: 1h29 \n\nDe l’Atlantique à la mer Noire\, Mathias embarque son meilleur ami Philippe dans un road trip à bicyclette. \nEnsemble ils vont refaire le voyage que Youri\, son fils\, avait entrepris avant de disparaitre tragiquement.\nUne épopée qu’ils traverseront avec tendresse\, humour et émotion.\n\n \n20h00: ouverture du bar\n20h30 : film
URL:https://www.stetten.fr/event/cine-a-bicyclette/
LOCATION:Salle polyvalente\, 5 rue des vignes\, Stetten\, 68510\, France
CATEGORIES:Cinéma
END:VEVENT
BEGIN:VEVENT
DTSTART;TZID=Europe/Paris:20250510T200000
DTEND;TZID=Europe/Paris:20250510T213000
DTSTAMP:20260422T105925
CREATED:20250505T110938Z
LAST-MODIFIED:20250505T111102Z
UID:1673-1746907200-1746912600@www.stetten.fr
SUMMARY:Concert : Pop Cornala & Charlin's Friends
DESCRIPTION:Double concert au profit de l’association « Dans les pas de Charline »\, samedi 10 mai à 20 heures à la salle polyvalente de Stetten. \nEntrée : 5 €
URL:https://www.stetten.fr/event/concert-pop-cornala-charlins-friends/
LOCATION:Salle polyvalente\, 5 rue des vignes\, Stetten\, 68510\, France
END:VEVENT
BEGIN:VEVENT
DTSTART;TZID=Europe/Paris:20250517T083000
DTEND;TZID=Europe/Paris:20250517T140000
DTSTAMP:20260422T105925
CREATED:20250107T193411Z
LAST-MODIFIED:20250107T193411Z
UID:1637-1747470600-1747490400@www.stetten.fr
SUMMARY:Journée citoyenne
DESCRIPTION:
URL:https://www.stetten.fr/event/journee-citoyenne-4/
LOCATION:L’Entracte\, 6 rue du Général de Gaulle\, Stetten\, 68510\, France
END:VEVENT
BEGIN:VEVENT
DTSTART;TZID=Europe/Paris:20250523T200000
DTEND;TZID=Europe/Paris:20250523T220000
DTSTAMP:20260422T105925
CREATED:20250505T105641Z
LAST-MODIFIED:20250505T105641Z
UID:1670-1748030400-1748037600@www.stetten.fr
SUMMARY:Ciné : On ira
DESCRIPTION:Comédie dramatique \n\nAvec: Hélène Vincent\, Pierre Lottin\, David Ayala… \n\nDurée: 1h37 \n\nMarie\, 80 ans\, en a ras le bol de sa maladie. Elle a un plan : partir en Suisse pour mettre fin à ses jours. \nMais au moment de l’annoncer à Bruno\, son fils irresponsable\, et Anna sa petite-fille en crise d’ado\, elle panique et invente un énorme mensonge. \nPrétextant un mystérieux héritage à aller chercher dans une banque suisse\, elle leur propose de faire un voyage tous ensemble. \nComplice involontaire de cette mascarade\, Rudy\, un auxiliaire de vie tout juste rencontré la veille\, va prendre le volant du vieux camping car familial\, et conduire cette famille dans un voyage inattendu.\n\n \n20h00: ouverture du bar\n20h30 : film
URL:https://www.stetten.fr/event/cine-on-ira/
LOCATION:Salle polyvalente\, 5 rue des vignes\, Stetten\, 68510\, France
CATEGORIES:Cinéma
END:VEVENT
BEGIN:VEVENT
DTSTART;VALUE=DATE:20250529
DTEND;VALUE=DATE:20250530
DTSTAMP:20260422T105925
CREATED:20250107T193810Z
LAST-MODIFIED:20250107T193810Z
UID:1643-1748476800-1748563199@www.stetten.fr
SUMMARY:Marché aux puces
DESCRIPTION:
URL:https://www.stetten.fr/event/marche-aux-puces-3/
LOCATION:Salle polyvalente\, 5 rue des vignes\, Stetten\, 68510\, France
END:VEVENT
END:VCALENDAR