BEGIN:VCALENDAR
VERSION:2.0
PRODID:-//Commune de Stetten - ECPv6.15.13//NONSGML v1.0//EN
CALSCALE:GREGORIAN
METHOD:PUBLISH
X-ORIGINAL-URL:https://www.stetten.fr
X-WR-CALDESC:Évènements pour Commune de Stetten
REFRESH-INTERVAL;VALUE=DURATION:PT1H
X-Robots-Tag:noindex
X-PUBLISHED-TTL:PT1H
BEGIN:VTIMEZONE
TZID:Europe/Paris
BEGIN:DAYLIGHT
TZOFFSETFROM:+0100
TZOFFSETTO:+0200
TZNAME:CEST
DTSTART:20240331T010000
END:DAYLIGHT
BEGIN:STANDARD
TZOFFSETFROM:+0200
TZOFFSETTO:+0100
TZNAME:CET
DTSTART:20241027T010000
END:STANDARD
BEGIN:DAYLIGHT
TZOFFSETFROM:+0100
TZOFFSETTO:+0200
TZNAME:CEST
DTSTART:20250330T010000
END:DAYLIGHT
BEGIN:STANDARD
TZOFFSETFROM:+0200
TZOFFSETTO:+0100
TZNAME:CET
DTSTART:20251026T010000
END:STANDARD
BEGIN:DAYLIGHT
TZOFFSETFROM:+0100
TZOFFSETTO:+0200
TZNAME:CEST
DTSTART:20260329T010000
END:DAYLIGHT
BEGIN:STANDARD
TZOFFSETFROM:+0200
TZOFFSETTO:+0100
TZNAME:CET
DTSTART:20261025T010000
END:STANDARD
END:VTIMEZONE
BEGIN:VEVENT
DTSTART;TZID=Europe/Paris:20250109T140000
DTEND;TZID=Europe/Paris:20250109T180000
DTSTAMP:20260422T213055
CREATED:20250107T192052Z
LAST-MODIFIED:20250107T192052Z
UID:1622-1736431200-1736445600@www.stetten.fr
SUMMARY:Rencontre des aînés
DESCRIPTION:
URL:https://www.stetten.fr/event/rencontre-des-aines-49/
LOCATION:L’Entracte\, 6 rue du Général de Gaulle\, Stetten\, 68510\, France
END:VEVENT
BEGIN:VEVENT
DTSTART;TZID=Europe/Paris:20250110T200000
DTEND;TZID=Europe/Paris:20250110T230000
DTSTAMP:20260422T213055
CREATED:20250107T192640Z
LAST-MODIFIED:20250107T193110Z
UID:1626-1736539200-1736550000@www.stetten.fr
SUMMARY:Ciné : Le Juré n°2
DESCRIPTION:Drame/Thriller\nDurée: 1h54\nFilm de : Clint Eastwood\nAvec: Nicholas Hoult\, J.K. Simmons\, Kiefer Sutherland\nAlors qu’un homme se retrouve juré d’un procès pour meurtre\, il découvre qu’il est à l’origine de cet acte criminel. Il se retrouve face à un dilemme moral entre se protéger ou se livrer. \n20h00: ouverture du bar\n\n20h30 / Film\nPlein Tarif : 5\,00€\nTarif Réduit : 4\,00€
URL:https://www.stetten.fr/event/cine-le-jure-n2/
LOCATION:Salle polyvalente\, 5 rue des vignes\, Stetten\, 68510\, France
CATEGORIES:Cinéma
END:VEVENT
BEGIN:VEVENT
DTSTART;TZID=Europe/Paris:20250112T110000
DTEND;TZID=Europe/Paris:20250112T120000
DTSTAMP:20260422T213055
CREATED:20241015T192156Z
LAST-MODIFIED:20241015T192156Z
UID:1594-1736679600-1736683200@www.stetten.fr
SUMMARY:Voeux de Mme le Maire & repas des aînés
DESCRIPTION:
URL:https://www.stetten.fr/event/voeux-de-mme-le-maire-repas-des-aines-2/
LOCATION:Salle polyvalente\, 5 rue des vignes\, Stetten\, 68510\, France
END:VEVENT
BEGIN:VEVENT
DTSTART;TZID=Europe/Paris:20250123T140000
DTEND;TZID=Europe/Paris:20250123T180000
DTSTAMP:20260422T213055
CREATED:20250107T192132Z
LAST-MODIFIED:20250107T192132Z
UID:1624-1737640800-1737655200@www.stetten.fr
SUMMARY:Rencontre des aînés
DESCRIPTION:
URL:https://www.stetten.fr/event/rencontre-des-aines-50/
LOCATION:L’Entracte\, 6 rue du Général de Gaulle\, Stetten\, 68510\, France
END:VEVENT
BEGIN:VEVENT
DTSTART;TZID=Europe/Paris:20250124T200000
DTEND;TZID=Europe/Paris:20250124T230000
DTSTAMP:20260422T213055
CREATED:20250107T193023Z
LAST-MODIFIED:20250107T193023Z
UID:1629-1737748800-1737759600@www.stetten.fr
SUMMARY:Ciné : En fanfare
DESCRIPTION:Comédie/Drame\nDurée: 1h44\nFilm de : Emmanuel Courcol\nAvec: Benjamin Lavernhe\, Pierre Lottin\, Sarah Suco \nThibaut est un chef d’orchestre de renommée internationale qui parcourt le monde. Lorsqu’il apprend qu’il a été adopté\, il découvre l’existence d’un frère\, Jimmy\, employé de cantine scolaire et qui joue du trombone dans une fanfare du nord de la France. En apparence tout les sépare\, sauf l’amour de la musique. Détectant les capacités musicales exceptionnelles de son frère\, Thibaut se donne pour mission de réparer l’injustice du destin. Jimmy se prend alors à rêver d’une autre vie… \nSéances \n20h00: ouverture du bar\n\n20h30 / Film\nPlein Tarif : 5\,00€\nTarif Réduit : 4\,00€
URL:https://www.stetten.fr/event/cine-en-fanfare/
LOCATION:Salle polyvalente\, 5 rue des vignes\, Stetten\, 68510\, France
CATEGORIES:Cinéma
END:VEVENT
END:VCALENDAR