BEGIN:VCALENDAR
VERSION:2.0
PRODID:-//Commune de Stetten - ECPv6.15.13//NONSGML v1.0//EN
CALSCALE:GREGORIAN
METHOD:PUBLISH
X-ORIGINAL-URL:https://www.stetten.fr
X-WR-CALDESC:Évènements pour Commune de Stetten
REFRESH-INTERVAL;VALUE=DURATION:PT1H
X-Robots-Tag:noindex
X-PUBLISHED-TTL:PT1H
BEGIN:VTIMEZONE
TZID:Europe/Paris
BEGIN:DAYLIGHT
TZOFFSETFROM:+0100
TZOFFSETTO:+0200
TZNAME:CEST
DTSTART:20230326T010000
END:DAYLIGHT
BEGIN:STANDARD
TZOFFSETFROM:+0200
TZOFFSETTO:+0100
TZNAME:CET
DTSTART:20231029T010000
END:STANDARD
BEGIN:DAYLIGHT
TZOFFSETFROM:+0100
TZOFFSETTO:+0200
TZNAME:CEST
DTSTART:20240331T010000
END:DAYLIGHT
BEGIN:STANDARD
TZOFFSETFROM:+0200
TZOFFSETTO:+0100
TZNAME:CET
DTSTART:20241027T010000
END:STANDARD
BEGIN:DAYLIGHT
TZOFFSETFROM:+0100
TZOFFSETTO:+0200
TZNAME:CEST
DTSTART:20250330T010000
END:DAYLIGHT
BEGIN:STANDARD
TZOFFSETFROM:+0200
TZOFFSETTO:+0100
TZNAME:CET
DTSTART:20251026T010000
END:STANDARD
END:VTIMEZONE
BEGIN:VEVENT
DTSTART;TZID=Europe/Paris:20240927T193000
DTEND;TZID=Europe/Paris:20240927T230000
DTSTAMP:20260423T033721
CREATED:20240924T091711Z
LAST-MODIFIED:20240924T092942Z
UID:1562-1727465400-1727478000@www.stetten.fr
SUMMARY:Ciné : Le Comte de Monte-Cristo
DESCRIPTION:Film de Matthieu Delaporte\, Alexandre de la Patellière\nDurée: 2h58\nAvec: Pierre Niney\, Bastien Bouillon\, Anaïs Demoustier\nVictime d’un complot\, le jeune Edmond Dantès est arrêté le jour de son mariage pour un crime qu’il n’a pas commis. \nAprès quatorze ans de détention au château d’If\, il parvient à s’évader. Devenu immensément riche\, il revient sous l’identité du comte de Monte-Cristo pour se venger des trois hommes qui l’ont trahi.\nEn raison de la longueur du film\, l’ouverture du bar se fera à 19H30 et la projection du film débutera à 20h00.\nPlein Tarif : 5\,00€\nTarif réduit : 4\,00€
URL:https://www.stetten.fr/event/cine-le-comte-de-monte-cristo/
LOCATION:Salle polyvalente\, 5 rue des vignes\, Stetten\, 68510\, France
CATEGORIES:Cinéma
END:VEVENT
END:VCALENDAR