BEGIN:VCALENDAR
VERSION:2.0
PRODID:-//Commune de Stetten - ECPv6.15.13//NONSGML v1.0//EN
CALSCALE:GREGORIAN
METHOD:PUBLISH
X-ORIGINAL-URL:https://www.stetten.fr
X-WR-CALDESC:Évènements pour Commune de Stetten
REFRESH-INTERVAL;VALUE=DURATION:PT1H
X-Robots-Tag:noindex
X-PUBLISHED-TTL:PT1H
BEGIN:VTIMEZONE
TZID:Europe/Paris
BEGIN:DAYLIGHT
TZOFFSETFROM:+0100
TZOFFSETTO:+0200
TZNAME:CEST
DTSTART:20230326T010000
END:DAYLIGHT
BEGIN:STANDARD
TZOFFSETFROM:+0200
TZOFFSETTO:+0100
TZNAME:CET
DTSTART:20231029T010000
END:STANDARD
BEGIN:DAYLIGHT
TZOFFSETFROM:+0100
TZOFFSETTO:+0200
TZNAME:CEST
DTSTART:20240331T010000
END:DAYLIGHT
BEGIN:STANDARD
TZOFFSETFROM:+0200
TZOFFSETTO:+0100
TZNAME:CET
DTSTART:20241027T010000
END:STANDARD
BEGIN:DAYLIGHT
TZOFFSETFROM:+0100
TZOFFSETTO:+0200
TZNAME:CEST
DTSTART:20250330T010000
END:DAYLIGHT
BEGIN:STANDARD
TZOFFSETFROM:+0200
TZOFFSETTO:+0100
TZNAME:CET
DTSTART:20251026T010000
END:STANDARD
END:VTIMEZONE
BEGIN:VEVENT
DTSTART;TZID=Europe/Paris:20240609T080000
DTEND;TZID=Europe/Paris:20240609T180000
DTSTAMP:20260423T081523
CREATED:20231230T203724Z
LAST-MODIFIED:20240218T201438Z
UID:1452-1717920000-1717956000@www.stetten.fr
SUMMARY:Élections européennes
DESCRIPTION:
URL:https://www.stetten.fr/event/elections-europeennes/
LOCATION:L’Entracte\, 6 rue du Général de Gaulle\, Stetten\, 68510\, France
END:VEVENT
BEGIN:VEVENT
DTSTART;VALUE=DATE:20240612
DTEND;VALUE=DATE:20240613
DTSTAMP:20260423T081523
CREATED:20240524T091822Z
LAST-MODIFIED:20240524T091822Z
UID:1529-1718150400-1718236799@www.stetten.fr
SUMMARY:Sortie des aînés
DESCRIPTION:
URL:https://www.stetten.fr/event/sortie-des-aines/
END:VEVENT
BEGIN:VEVENT
DTSTART;TZID=Europe/Paris:20240613T140000
DTEND;TZID=Europe/Paris:20240613T180000
DTSTAMP:20260423T081523
CREATED:20240524T091856Z
LAST-MODIFIED:20240524T091856Z
UID:1531-1718287200-1718301600@www.stetten.fr
SUMMARY:Rencontre des aînés
DESCRIPTION:
URL:https://www.stetten.fr/event/rencontre-des-aines-38/
LOCATION:L’Entracte\, 6 rue du Général de Gaulle\, Stetten\, 68510\, France
END:VEVENT
BEGIN:VEVENT
DTSTART;TZID=Europe/Paris:20240614T080000
DTEND;TZID=Europe/Paris:20240614T170000
DTSTAMP:20260423T081523
CREATED:20240524T091937Z
LAST-MODIFIED:20240524T091937Z
UID:1533-1718352000-1718384400@www.stetten.fr
SUMMARY:Pique-nique villageois
DESCRIPTION:
URL:https://www.stetten.fr/event/pique-nique-villageois-3/
LOCATION:L’Entracte\, 6 rue du Général de Gaulle\, Stetten\, 68510\, France
END:VEVENT
BEGIN:VEVENT
DTSTART;TZID=Europe/Paris:20240621T200000
DTEND;TZID=Europe/Paris:20240621T223000
DTSTAMP:20260423T081523
CREATED:20240524T092031Z
LAST-MODIFIED:20240524T092031Z
UID:1535-1719000000-1719009000@www.stetten.fr
SUMMARY:Ciné
DESCRIPTION:Programme non communiqué\n20h00: ouverture du bar\n20h30: film \nPlein Tarif : 5\,00€\nTarif réduit : 4\,00€
URL:https://www.stetten.fr/event/cine-13/
LOCATION:Salle polyvalente\, 5 rue des vignes\, Stetten\, 68510\, France
CATEGORIES:Cinéma
END:VEVENT
BEGIN:VEVENT
DTSTART;TZID=Europe/Paris:20240627T140000
DTEND;TZID=Europe/Paris:20240627T180000
DTSTAMP:20260423T081523
CREATED:20240524T092104Z
LAST-MODIFIED:20240524T092104Z
UID:1537-1719496800-1719511200@www.stetten.fr
SUMMARY:Rencontre des aînés
DESCRIPTION:
URL:https://www.stetten.fr/event/rencontre-des-aines-39/
LOCATION:L’Entracte\, 6 rue du Général de Gaulle\, Stetten\, 68510\, France
END:VEVENT
BEGIN:VEVENT
DTSTART;TZID=Europe/Paris:20240629T180000
DTEND;TZID=Europe/Paris:20240629T230000
DTSTAMP:20260423T081523
CREATED:20240524T092222Z
LAST-MODIFIED:20240628T104410Z
UID:1539-1719684000-1719702000@www.stetten.fr
SUMMARY:[ANNULÉ] Concert Punch Orchestra
DESCRIPTION:
URL:https://www.stetten.fr/event/concert-punch-orchestra/
LOCATION:Salle polyvalente\, 5 rue des vignes\, Stetten\, 68510\, France
END:VEVENT
END:VCALENDAR