BEGIN:VCALENDAR
VERSION:2.0
PRODID:-//Commune de Stetten - ECPv6.15.13//NONSGML v1.0//EN
CALSCALE:GREGORIAN
METHOD:PUBLISH
X-WR-CALNAME:Commune de Stetten
X-ORIGINAL-URL:https://www.stetten.fr
X-WR-CALDESC:Évènements pour Commune de Stetten
REFRESH-INTERVAL;VALUE=DURATION:PT1H
X-Robots-Tag:noindex
X-PUBLISHED-TTL:PT1H
BEGIN:VTIMEZONE
TZID:Europe/Paris
BEGIN:DAYLIGHT
TZOFFSETFROM:+0100
TZOFFSETTO:+0200
TZNAME:CEST
DTSTART:20230326T010000
END:DAYLIGHT
BEGIN:STANDARD
TZOFFSETFROM:+0200
TZOFFSETTO:+0100
TZNAME:CET
DTSTART:20231029T010000
END:STANDARD
BEGIN:DAYLIGHT
TZOFFSETFROM:+0100
TZOFFSETTO:+0200
TZNAME:CEST
DTSTART:20240331T010000
END:DAYLIGHT
BEGIN:STANDARD
TZOFFSETFROM:+0200
TZOFFSETTO:+0100
TZNAME:CET
DTSTART:20241027T010000
END:STANDARD
BEGIN:DAYLIGHT
TZOFFSETFROM:+0100
TZOFFSETTO:+0200
TZNAME:CEST
DTSTART:20250330T010000
END:DAYLIGHT
BEGIN:STANDARD
TZOFFSETFROM:+0200
TZOFFSETTO:+0100
TZNAME:CET
DTSTART:20251026T010000
END:STANDARD
END:VTIMEZONE
BEGIN:VEVENT
DTSTART;TZID=Europe/Paris:20240524T200000
DTEND;TZID=Europe/Paris:20240524T223000
DTSTAMP:20260423T093551
CREATED:20240524T091450Z
LAST-MODIFIED:20240524T091450Z
UID:1521-1716580800-1716589800@www.stetten.fr
SUMMARY:Ciné : Frères
DESCRIPTION:FRERES\nFilm de Olivier Casas\nAvec : Mathieu Kassovitz\, Yvan Attal\, Alma Jodorowsky \nDrame\nDurée : 1h46\nL’histoire vraie de deux petits garçons de 5 et 7 ans qui\, abandonnés par leur mère en 1948\, s’enfuient dans la forêt.\nIls vont y survivre pendant sept années et tisser un lien qui les unira à jamais. \nDes décennies plus tard\, les deux frères quittent tout pour se retrouver.\n20h00: ouverture du bar\n20h30: film \nPlein Tarif : 5\,00€\nTarif réduit : 4\,00€
URL:https://www.stetten.fr/event/cine-freres/
LOCATION:Salle polyvalente\, 5 rue des vignes\, Stetten\, 68510\, France
CATEGORIES:Cinéma
END:VEVENT
BEGIN:VEVENT
DTSTART;TZID=Europe/Paris:20240524T200000
DTEND;TZID=Europe/Paris:20240524T223000
DTSTAMP:20260423T093551
CREATED:20240524T091729Z
LAST-MODIFIED:20240524T091729Z
UID:1526-1716580800-1716589800@www.stetten.fr
SUMMARY:Ciné : Et plus si affinités
DESCRIPTION:ET PLUS SI AFFINITÉS\nFilm de Olivier Ducray\, Wilfried Meane\nComédie : Prix spécial du jury\, le Prix du public AlloCiné et deux Prix d’interprétation – masculine et féminine – pour Bernard Campan et Isabelle Carré.\n\nUsé par vingt-cinq ans de vie commune\, le couple formé par Xavier et Sophie semble à bout de souffle. \nEt le moins que l’on puisse dire c’est que l’idée de Sophie d’inviter à dîner leurs voisins\, Adèle et Alban\, n’enchante pas Xavier. \nIl reproche à ce couple\, visiblement très amoureux\, son manque de discrétion\, surtout la nuit ! \nAu contact de ces voisins aux mœurs débridées\, Xavier et Sophie vont devoir se confronter à leur réalité\, avant d’être poussés dans leur retranchement par une proposition quelque peu… indécente.\n20h00: ouverture du bar\n20h30: film \nPlein Tarif : 5\,00€\nTarif réduit : 4\,00€
URL:https://www.stetten.fr/event/cine-et-plus-si-affinites/
LOCATION:Salle polyvalente\, 5 rue des vignes\, Stetten\, 68510\, France
CATEGORIES:Cinéma
END:VEVENT
BEGIN:VEVENT
DTSTART;TZID=Europe/Paris:20240525T083000
DTEND;TZID=Europe/Paris:20240525T140000
DTSTAMP:20260423T093551
CREATED:20231230T203551Z
LAST-MODIFIED:20240318T204012Z
UID:1450-1716625800-1716645600@www.stetten.fr
SUMMARY:Journée citoyenne
DESCRIPTION:
URL:https://www.stetten.fr/event/journee-citoyenne-3/
LOCATION:L’Entracte\, 6 rue du Général de Gaulle\, Stetten\, 68510\, France
END:VEVENT
BEGIN:VEVENT
DTSTART;TZID=Europe/Paris:20240530T140000
DTEND;TZID=Europe/Paris:20240530T180000
DTSTAMP:20260423T093551
CREATED:20240524T091531Z
LAST-MODIFIED:20240524T091531Z
UID:1524-1717077600-1717092000@www.stetten.fr
SUMMARY:Rencontre des aînés
DESCRIPTION:
URL:https://www.stetten.fr/event/rencontre-des-aines-37/
LOCATION:L’Entracte\, 6 rue du Général de Gaulle\, Stetten\, 68510\, France
END:VEVENT
END:VCALENDAR