BEGIN:VCALENDAR
VERSION:2.0
PRODID:-//Commune de Stetten - ECPv6.15.13//NONSGML v1.0//EN
CALSCALE:GREGORIAN
METHOD:PUBLISH
X-WR-CALNAME:Commune de Stetten
X-ORIGINAL-URL:https://www.stetten.fr
X-WR-CALDESC:Évènements pour Commune de Stetten
REFRESH-INTERVAL;VALUE=DURATION:PT1H
X-Robots-Tag:noindex
X-PUBLISHED-TTL:PT1H
BEGIN:VTIMEZONE
TZID:Europe/Paris
BEGIN:DAYLIGHT
TZOFFSETFROM:+0100
TZOFFSETTO:+0200
TZNAME:CEST
DTSTART:20230326T010000
END:DAYLIGHT
BEGIN:STANDARD
TZOFFSETFROM:+0200
TZOFFSETTO:+0100
TZNAME:CET
DTSTART:20231029T010000
END:STANDARD
BEGIN:DAYLIGHT
TZOFFSETFROM:+0100
TZOFFSETTO:+0200
TZNAME:CEST
DTSTART:20240331T010000
END:DAYLIGHT
BEGIN:STANDARD
TZOFFSETFROM:+0200
TZOFFSETTO:+0100
TZNAME:CET
DTSTART:20241027T010000
END:STANDARD
BEGIN:DAYLIGHT
TZOFFSETFROM:+0100
TZOFFSETTO:+0200
TZNAME:CEST
DTSTART:20250330T010000
END:DAYLIGHT
BEGIN:STANDARD
TZOFFSETFROM:+0200
TZOFFSETTO:+0100
TZNAME:CET
DTSTART:20251026T010000
END:STANDARD
END:VTIMEZONE
BEGIN:VEVENT
DTSTART;TZID=Europe/Paris:20240307T140000
DTEND;TZID=Europe/Paris:20240307T180000
DTSTAMP:20260423T123042
CREATED:20231230T201151Z
LAST-MODIFIED:20240307T140612Z
UID:1424-1709820000-1709834400@www.stetten.fr
SUMMARY:Rencontre des aînés
DESCRIPTION:
URL:https://www.stetten.fr/event/rencontre-des-aines-35/
LOCATION:L’Entracte\, 6 rue du Général de Gaulle\, Stetten\, 68510\, France
END:VEVENT
BEGIN:VEVENT
DTSTART;TZID=Europe/Paris:20240308T200000
DTEND;TZID=Europe/Paris:20240308T223000
DTSTAMP:20260423T123042
CREATED:20231230T203229Z
LAST-MODIFIED:20240307T140941Z
UID:1444-1709928000-1709937000@www.stetten.fr
SUMMARY:Ciné : La Ferme des Bertrand
DESCRIPTION:La Ferme des Bertrand met en lumière la dureté du travail\, le rapport aux bêtes et à la terre\, la transmission. Gilles Perret bâtit un film-somme sur trois générations d’une famille d’agriculteurs franc-comtois.  Beau\, touchant et profondément humain\, « La Ferme des Bertrand » est un bijou de documentaire \n20h00: ouverture du bar \n20h30: film (durée : 1h28) \nNouveaux Tarifs \nPlein Tarif  : 5\,00€ \nTarif réduit : 4\,00€
URL:https://www.stetten.fr/event/cine-14/
LOCATION:Salle polyvalente\, 5 rue des vignes\, Stetten\, 68510\, France
CATEGORIES:Cinéma
END:VEVENT
BEGIN:VEVENT
DTSTART;TZID=Europe/Paris:20240321T140000
DTEND;TZID=Europe/Paris:20240321T180000
DTSTAMP:20260423T123042
CREATED:20231230T201215Z
LAST-MODIFIED:20240318T204024Z
UID:1426-1711029600-1711044000@www.stetten.fr
SUMMARY:Rencontre des aînés
DESCRIPTION:
URL:https://www.stetten.fr/event/rencontre-des-aines-36/
LOCATION:L’Entracte\, 6 rue du Général de Gaulle\, Stetten\, 68510\, France
END:VEVENT
BEGIN:VEVENT
DTSTART;TZID=Europe/Paris:20240322T200000
DTEND;TZID=Europe/Paris:20240322T223000
DTSTAMP:20260423T123042
CREATED:20231230T203325Z
LAST-MODIFIED:20240318T204018Z
UID:1446-1711137600-1711146600@www.stetten.fr
SUMMARY:Ciné : La Zone d'Intérêt
DESCRIPTION:Grand Prix au Festival de Cannes 2023 \nAvec : Sandra Hüller vue dans le film Anatomie d’une chute \nLe commandant d’Auschwitz\, Rudolf Höss\, et sa femme Hedwig s’efforcent de construire une vie de rêve pour leur famille dans une maison avec jardin à côté du camp. \nFilm en VO Allemand sous-titré français \nDurée : 1h45
URL:https://www.stetten.fr/event/cine-15/
LOCATION:Salle polyvalente\, 5 rue des vignes\, Stetten\, 68510\, France
CATEGORIES:Cinéma
END:VEVENT
END:VCALENDAR