BEGIN:VCALENDAR
VERSION:2.0
PRODID:-//Commune de Stetten - ECPv6.15.13//NONSGML v1.0//EN
CALSCALE:GREGORIAN
METHOD:PUBLISH
X-ORIGINAL-URL:https://www.stetten.fr
X-WR-CALDESC:Évènements pour Commune de Stetten
REFRESH-INTERVAL;VALUE=DURATION:PT1H
X-Robots-Tag:noindex
X-PUBLISHED-TTL:PT1H
BEGIN:VTIMEZONE
TZID:Europe/Paris
BEGIN:DAYLIGHT
TZOFFSETFROM:+0100
TZOFFSETTO:+0200
TZNAME:CEST
DTSTART:20230326T010000
END:DAYLIGHT
BEGIN:STANDARD
TZOFFSETFROM:+0200
TZOFFSETTO:+0100
TZNAME:CET
DTSTART:20231029T010000
END:STANDARD
BEGIN:DAYLIGHT
TZOFFSETFROM:+0100
TZOFFSETTO:+0200
TZNAME:CEST
DTSTART:20240331T010000
END:DAYLIGHT
BEGIN:STANDARD
TZOFFSETFROM:+0200
TZOFFSETTO:+0100
TZNAME:CET
DTSTART:20241027T010000
END:STANDARD
BEGIN:DAYLIGHT
TZOFFSETFROM:+0100
TZOFFSETTO:+0200
TZNAME:CEST
DTSTART:20250330T010000
END:DAYLIGHT
BEGIN:STANDARD
TZOFFSETFROM:+0200
TZOFFSETTO:+0100
TZNAME:CET
DTSTART:20251026T010000
END:STANDARD
END:VTIMEZONE
BEGIN:VEVENT
DTSTART;TZID=Europe/Paris:20240208T140000
DTEND;TZID=Europe/Paris:20240208T180000
DTSTAMP:20260423T141754
CREATED:20231230T201045Z
LAST-MODIFIED:20240319T072404Z
UID:1420-1707400800-1707415200@www.stetten.fr
SUMMARY:Rencontre des aînés
DESCRIPTION:
URL:https://www.stetten.fr/event/rencontre-des-aines-33/
LOCATION:L’Entracte\, 6 rue du Général de Gaulle\, Stetten\, 68510\, France
END:VEVENT
BEGIN:VEVENT
DTSTART;TZID=Europe/Paris:20240209T200000
DTEND;TZID=Europe/Paris:20240209T223000
DTSTAMP:20260423T141754
CREATED:20231230T203058Z
LAST-MODIFIED:20240319T072411Z
UID:1440-1707508800-1707517800@www.stetten.fr
SUMMARY:Ciné
DESCRIPTION:Programmation non communiquée
URL:https://www.stetten.fr/event/cine-11/
CATEGORIES:Cinéma
END:VEVENT
BEGIN:VEVENT
DTSTART;TZID=Europe/Paris:20240222T140000
DTEND;TZID=Europe/Paris:20240222T180000
DTSTAMP:20260423T141754
CREATED:20231230T201122Z
LAST-MODIFIED:20240307T140618Z
UID:1422-1708610400-1708624800@www.stetten.fr
SUMMARY:Rencontre des aînés
DESCRIPTION:
URL:https://www.stetten.fr/event/rencontre-des-aines-34/
LOCATION:L’Entracte\, 6 rue du Général de Gaulle\, Stetten\, 68510\, France
END:VEVENT
BEGIN:VEVENT
DTSTART;TZID=Europe/Paris:20240223T200000
DTEND;TZID=Europe/Paris:20240223T223000
DTSTAMP:20260423T141754
CREATED:20231009T182749Z
LAST-MODIFIED:20240218T201431Z
UID:1356-1708718400-1708727400@www.stetten.fr
SUMMARY:Ciné : Bernadette
DESCRIPTION:Bernadette\nFilm de Léa Domenach\nAvec Catherine Deneuve\, Michel Vuillermoz\, Denis Podalydès\nDurée : 1h32\nQuand elle arrive à l’Élysée\, Bernadette Chirac s’attend à obtenir enfin la place qu’elle mérite\, elle qui a toujours œuvré dans l’ombre de son mari pour qu’il devienne président. Mise de côté car jugée trop ringarde\, Bernadette décide alors de prendre sa revanche.\n \n\n20h00 : Ouverture du bar\n20H30 : Film
URL:https://www.stetten.fr/event/cine-10/
LOCATION:Salle polyvalente\, 5 rue des vignes\, Stetten\, 68510\, France
CATEGORIES:Cinéma
END:VEVENT
END:VCALENDAR