BEGIN:VCALENDAR
VERSION:2.0
PRODID:-//Commune de Stetten - ECPv6.15.13//NONSGML v1.0//EN
CALSCALE:GREGORIAN
METHOD:PUBLISH
X-ORIGINAL-URL:https://www.stetten.fr
X-WR-CALDESC:Évènements pour Commune de Stetten
REFRESH-INTERVAL;VALUE=DURATION:PT1H
X-Robots-Tag:noindex
X-PUBLISHED-TTL:PT1H
BEGIN:VTIMEZONE
TZID:Europe/Paris
BEGIN:DAYLIGHT
TZOFFSETFROM:+0100
TZOFFSETTO:+0200
TZNAME:CEST
DTSTART:20220327T010000
END:DAYLIGHT
BEGIN:STANDARD
TZOFFSETFROM:+0200
TZOFFSETTO:+0100
TZNAME:CET
DTSTART:20221030T010000
END:STANDARD
BEGIN:DAYLIGHT
TZOFFSETFROM:+0100
TZOFFSETTO:+0200
TZNAME:CEST
DTSTART:20230326T010000
END:DAYLIGHT
BEGIN:STANDARD
TZOFFSETFROM:+0200
TZOFFSETTO:+0100
TZNAME:CET
DTSTART:20231029T010000
END:STANDARD
BEGIN:DAYLIGHT
TZOFFSETFROM:+0100
TZOFFSETTO:+0200
TZNAME:CEST
DTSTART:20240331T010000
END:DAYLIGHT
BEGIN:STANDARD
TZOFFSETFROM:+0200
TZOFFSETTO:+0100
TZNAME:CET
DTSTART:20241027T010000
END:STANDARD
END:VTIMEZONE
BEGIN:VEVENT
DTSTART;TZID=Europe/Paris:20231006T200000
DTEND;TZID=Europe/Paris:20231006T223000
DTSTAMP:20260423T211130
CREATED:20230914T184116Z
LAST-MODIFIED:20230914T184116Z
UID:1299-1696622400-1696631400@www.stetten.fr
SUMMARY:Ciné : Anatomie d'une chute
DESCRIPTION:Anatomie d’une chute – France – 2h30 – Sortie : 23/08/23 – 2023 – Réalisateur : Justine Triet – Scénariste : Justine Triet et Arthur Harari – LEGENDE PHOTO : Affiche \nANATOMIE D’UNE CHUTE\n\n20h00 : ouverture du bar\n20h30 : film\n\n \nPalme d’Or du Festival de Cannes 2023\n \nAvec : Sandra Hüller\, Swann Arlaud\, Milo Machado Graner\nDurée : 2h30\nSandra\, Samuel et leur fils malvoyant de 11 ans vivent depuis un an loin de tout. Samuel est retrouvé mort au pied de leur maison. Sandra est inculpée malgré le doute : suicide ou homicide ?
URL:https://www.stetten.fr/event/cine-anatomie-dune-chute/
LOCATION:Salle polyvalente\, 5 rue des vignes\, Stetten\, 68510\, France
CATEGORIES:Cinéma
END:VEVENT
BEGIN:VEVENT
DTSTART;TZID=Europe/Paris:20231010T090000
DTEND;TZID=Europe/Paris:20231010T100000
DTSTAMP:20260423T211130
CREATED:20231009T181651Z
LAST-MODIFIED:20231009T181651Z
UID:1333-1696928400-1696932000@www.stetten.fr
SUMMARY:Gymnastique douce
DESCRIPTION:
URL:https://www.stetten.fr/event/gymnastique-douce-5/
LOCATION:Salle polyvalente\, 5 rue des vignes\, Stetten\, 68510\, France
END:VEVENT
BEGIN:VEVENT
DTSTART;TZID=Europe/Paris:20231010T101500
DTEND;TZID=Europe/Paris:20231010T111500
DTSTAMP:20260423T211130
CREATED:20231009T181730Z
LAST-MODIFIED:20231009T181730Z
UID:1335-1696932900-1696936500@www.stetten.fr
SUMMARY:Gymnastique tonique
DESCRIPTION:
URL:https://www.stetten.fr/event/gymnastique-tonique-5/
LOCATION:Salle polyvalente\, 5 rue des vignes\, Stetten\, 68510\, France
END:VEVENT
BEGIN:VEVENT
DTSTART;TZID=Europe/Paris:20231012T140000
DTEND;TZID=Europe/Paris:20231012T180000
DTSTAMP:20260423T211130
CREATED:20231009T181838Z
LAST-MODIFIED:20231009T181838Z
UID:1337-1697119200-1697133600@www.stetten.fr
SUMMARY:Rencontre des aînés
DESCRIPTION:
URL:https://www.stetten.fr/event/rencontre-des-aines-25/
LOCATION:L’Entracte\, 6 rue du Général de Gaulle\, Stetten\, 68510\, France
END:VEVENT
BEGIN:VEVENT
DTSTART;TZID=Europe/Paris:20231026T140000
DTEND;TZID=Europe/Paris:20231026T180000
DTSTAMP:20260423T211130
CREATED:20231009T181913Z
LAST-MODIFIED:20231009T181913Z
UID:1339-1698328800-1698343200@www.stetten.fr
SUMMARY:Rencontre des aînés
DESCRIPTION:
URL:https://www.stetten.fr/event/rencontre-des-aines-26/
LOCATION:L’Entracte\, 6 rue du Général de Gaulle\, Stetten\, 68510\, France
END:VEVENT
BEGIN:VEVENT
DTSTART;TZID=Europe/Paris:20231027T163000
DTEND;TZID=Europe/Paris:20231027T193000
DTSTAMP:20260423T211130
CREATED:20231009T182325Z
LAST-MODIFIED:20231009T182543Z
UID:1349-1698424200-1698435000@www.stetten.fr
SUMMARY:Don du sang
DESCRIPTION:Collecte à la salle polyvalente\, ouverte aux personnes de 18 à 70 ans.
URL:https://www.stetten.fr/event/don-du-sang-3/
LOCATION:Salle polyvalente\, 5 rue des vignes\, Stetten\, 68510\, France
END:VEVENT
END:VCALENDAR