BEGIN:VCALENDAR
VERSION:2.0
PRODID:-//Commune de Stetten - ECPv6.15.13//NONSGML v1.0//EN
CALSCALE:GREGORIAN
METHOD:PUBLISH
X-ORIGINAL-URL:https://www.stetten.fr
X-WR-CALDESC:Évènements pour Commune de Stetten
REFRESH-INTERVAL;VALUE=DURATION:PT1H
X-Robots-Tag:noindex
X-PUBLISHED-TTL:PT1H
BEGIN:VTIMEZONE
TZID:Europe/Paris
BEGIN:DAYLIGHT
TZOFFSETFROM:+0100
TZOFFSETTO:+0200
TZNAME:CEST
DTSTART:20240331T010000
END:DAYLIGHT
BEGIN:STANDARD
TZOFFSETFROM:+0200
TZOFFSETTO:+0100
TZNAME:CET
DTSTART:20241027T010000
END:STANDARD
BEGIN:DAYLIGHT
TZOFFSETFROM:+0100
TZOFFSETTO:+0200
TZNAME:CEST
DTSTART:20250330T010000
END:DAYLIGHT
BEGIN:STANDARD
TZOFFSETFROM:+0200
TZOFFSETTO:+0100
TZNAME:CET
DTSTART:20251026T010000
END:STANDARD
BEGIN:DAYLIGHT
TZOFFSETFROM:+0100
TZOFFSETTO:+0200
TZNAME:CEST
DTSTART:20260329T010000
END:DAYLIGHT
BEGIN:STANDARD
TZOFFSETFROM:+0200
TZOFFSETTO:+0100
TZNAME:CET
DTSTART:20261025T010000
END:STANDARD
END:VTIMEZONE
BEGIN:VEVENT
DTSTART;TZID=Europe/Paris:20251010T200000
DTEND;TZID=Europe/Paris:20251010T220000
DTSTAMP:20260420T044612
CREATED:20251002T144800Z
LAST-MODIFIED:20251002T144800Z
UID:1718-1760126400-1760133600@www.stetten.fr
SUMMARY:Ciné : Les Musiciens
DESCRIPTION:Comédie dramatique\nDe Gregory Magne\nAvec: Valérie Donzelli\, Frédéric Pierrot\, Mathieu Spinosi…\nDurée : 1h42 \nAstrid Thompson parvient enfin à réaliser le rêve de son père : réunir quatre Stradivarius pour un concert unique attendu par les mélomanes du monde entier. \nMais Lise\, George\, Peter et Apolline\, les quatre virtuoses recrutés pour l’occasion\, sont incapables de jouer ensemble.\n Les crises d’égo se succèdent au rythme des répétitions. \nSans solution\, Astrid se résout à aller chercher le seul qui\, à ses yeux\, peut encore sauver l’événement : Charlie Beaumont\, le compositeur de la partition.\n\n \n20h00: ouverture du bar\n20h30 : film
URL:https://www.stetten.fr/event/cine-les-musiciens/
LOCATION:Salle polyvalente\, 5 rue des vignes\, Stetten\, 68510\, France
CATEGORIES:Cinéma
END:VEVENT
END:VCALENDAR