BEGIN:VCALENDAR
VERSION:2.0
PRODID:-//Commune de Stetten - ECPv6.15.13//NONSGML v1.0//EN
CALSCALE:GREGORIAN
METHOD:PUBLISH
X-WR-CALNAME:Commune de Stetten
X-ORIGINAL-URL:https://www.stetten.fr
X-WR-CALDESC:Évènements pour Commune de Stetten
REFRESH-INTERVAL;VALUE=DURATION:PT1H
X-Robots-Tag:noindex
X-PUBLISHED-TTL:PT1H
BEGIN:VTIMEZONE
TZID:Europe/Paris
BEGIN:DAYLIGHT
TZOFFSETFROM:+0100
TZOFFSETTO:+0200
TZNAME:CEST
DTSTART:20240331T010000
END:DAYLIGHT
BEGIN:STANDARD
TZOFFSETFROM:+0200
TZOFFSETTO:+0100
TZNAME:CET
DTSTART:20241027T010000
END:STANDARD
BEGIN:DAYLIGHT
TZOFFSETFROM:+0100
TZOFFSETTO:+0200
TZNAME:CEST
DTSTART:20250330T010000
END:DAYLIGHT
BEGIN:STANDARD
TZOFFSETFROM:+0200
TZOFFSETTO:+0100
TZNAME:CET
DTSTART:20251026T010000
END:STANDARD
BEGIN:DAYLIGHT
TZOFFSETFROM:+0100
TZOFFSETTO:+0200
TZNAME:CEST
DTSTART:20260329T010000
END:DAYLIGHT
BEGIN:STANDARD
TZOFFSETFROM:+0200
TZOFFSETTO:+0100
TZNAME:CET
DTSTART:20261025T010000
END:STANDARD
END:VTIMEZONE
BEGIN:VEVENT
DTSTART;TZID=Europe/Paris:20250510T200000
DTEND;TZID=Europe/Paris:20250510T213000
DTSTAMP:20260422T122236
CREATED:20250505T110938Z
LAST-MODIFIED:20250505T111102Z
UID:1673-1746907200-1746912600@www.stetten.fr
SUMMARY:Concert : Pop Cornala & Charlin's Friends
DESCRIPTION:Double concert au profit de l’association « Dans les pas de Charline »\, samedi 10 mai à 20 heures à la salle polyvalente de Stetten. \nEntrée : 5 €
URL:https://www.stetten.fr/event/concert-pop-cornala-charlins-friends/
LOCATION:Salle polyvalente\, 5 rue des vignes\, Stetten\, 68510\, France
END:VEVENT
END:VCALENDAR