BEGIN:VCALENDAR
VERSION:2.0
PRODID:-//Commune de Stetten - ECPv6.15.13//NONSGML v1.0//EN
CALSCALE:GREGORIAN
METHOD:PUBLISH
X-WR-CALNAME:Commune de Stetten
X-ORIGINAL-URL:https://www.stetten.fr
X-WR-CALDESC:Évènements pour Commune de Stetten
REFRESH-INTERVAL;VALUE=DURATION:PT1H
X-Robots-Tag:noindex
X-PUBLISHED-TTL:PT1H
BEGIN:VTIMEZONE
TZID:Europe/Paris
BEGIN:DAYLIGHT
TZOFFSETFROM:+0100
TZOFFSETTO:+0200
TZNAME:CEST
DTSTART:20240331T010000
END:DAYLIGHT
BEGIN:STANDARD
TZOFFSETFROM:+0200
TZOFFSETTO:+0100
TZNAME:CET
DTSTART:20241027T010000
END:STANDARD
BEGIN:DAYLIGHT
TZOFFSETFROM:+0100
TZOFFSETTO:+0200
TZNAME:CEST
DTSTART:20250330T010000
END:DAYLIGHT
BEGIN:STANDARD
TZOFFSETFROM:+0200
TZOFFSETTO:+0100
TZNAME:CET
DTSTART:20251026T010000
END:STANDARD
BEGIN:DAYLIGHT
TZOFFSETFROM:+0100
TZOFFSETTO:+0200
TZNAME:CEST
DTSTART:20260329T010000
END:DAYLIGHT
BEGIN:STANDARD
TZOFFSETFROM:+0200
TZOFFSETTO:+0100
TZNAME:CET
DTSTART:20261025T010000
END:STANDARD
END:VTIMEZONE
BEGIN:VEVENT
DTSTART;TZID=Europe/Paris:20250321T200000
DTEND;TZID=Europe/Paris:20250321T230000
DTSTAMP:20260422T194933
CREATED:20250228T202000Z
LAST-MODIFIED:20250228T202000Z
UID:1654-1742587200-1742598000@www.stetten.fr
SUMMARY:Ciné : Un ours dans le Jura
DESCRIPTION:Film de Franck Dubosc\nComedie\, Thriller \n\nAvec : Franck Dubosc\, Laure Calamy\, Benoit Poelvorde \n\nDurée: 1h53 \n\nMichel et Cathy\, un couple usé par le temps et les difficultés financières\, ne se parle plus vraiment. \nJusqu’au jour où Michel\, pour éviter un ours sur la route\, heurte une voiture et tue les deux occupants. \n2 morts et 2 millions en billets usagés dans le coffre\, forcément\, ça donne envie de se reparler.\nEt surtout de se taire.\n 
URL:https://www.stetten.fr/event/cine-un-ours-dans-le-jura/
LOCATION:Salle polyvalente\, 5 rue des vignes\, Stetten\, 68510\, France
CATEGORIES:Cinéma
END:VEVENT
END:VCALENDAR