BEGIN:VCALENDAR
VERSION:2.0
PRODID:-//Commune de Stetten - ECPv6.15.13//NONSGML v1.0//EN
CALSCALE:GREGORIAN
METHOD:PUBLISH
X-ORIGINAL-URL:https://www.stetten.fr
X-WR-CALDESC:Évènements pour Commune de Stetten
REFRESH-INTERVAL;VALUE=DURATION:PT1H
X-Robots-Tag:noindex
X-PUBLISHED-TTL:PT1H
BEGIN:VTIMEZONE
TZID:Europe/Paris
BEGIN:DAYLIGHT
TZOFFSETFROM:+0100
TZOFFSETTO:+0200
TZNAME:CEST
DTSTART:20230326T010000
END:DAYLIGHT
BEGIN:STANDARD
TZOFFSETFROM:+0200
TZOFFSETTO:+0100
TZNAME:CET
DTSTART:20231029T010000
END:STANDARD
BEGIN:DAYLIGHT
TZOFFSETFROM:+0100
TZOFFSETTO:+0200
TZNAME:CEST
DTSTART:20240331T010000
END:DAYLIGHT
BEGIN:STANDARD
TZOFFSETFROM:+0200
TZOFFSETTO:+0100
TZNAME:CET
DTSTART:20241027T010000
END:STANDARD
BEGIN:DAYLIGHT
TZOFFSETFROM:+0100
TZOFFSETTO:+0200
TZNAME:CEST
DTSTART:20250330T010000
END:DAYLIGHT
BEGIN:STANDARD
TZOFFSETFROM:+0200
TZOFFSETTO:+0100
TZNAME:CET
DTSTART:20251026T010000
END:STANDARD
END:VTIMEZONE
BEGIN:VEVENT
DTSTART;TZID=Europe/Paris:20241206T200000
DTEND;TZID=Europe/Paris:20241206T230000
DTSTAMP:20260423T004018
CREATED:20241016T063033Z
LAST-MODIFIED:20241114T184249Z
UID:1600-1733515200-1733526000@www.stetten.fr
SUMMARY:Ciné : Monsieur Aznavour
DESCRIPTION:Biopic\nDurée: 2h13\nFilm de : Mehdi Idir\, Grand Corps Malade.\nAvec: Tahar Rahim\, Bastien Bouillon\, Marie-Julie Baup…\nFils de réfugiés\, petit\, pauvre\, à la voix voilée\, on disait de lui qu’il n’avait rien pour réussir.\nÀ force de travail\, de persévérance et d’une volonté hors norme\, Charles Aznavour est devenu un monument de la chanson\, et un symbole de la culture française. \nAvec près de 1200 titres interprétés dans le monde entier et dans toutes les langues\, il a inspiré des générations entières. \nDécouvrez le parcours exceptionnel et intemporel de MONSIEUR AZNAVOUR. \n20h00: ouverture du bar\n\n20h30 / Film\nPlein Tarif : 5\,00€\nTarif Réduit : 4\,00€
URL:https://www.stetten.fr/event/cine-18/
LOCATION:Salle polyvalente\, 5 rue des vignes\, Stetten\, 68510\, France
CATEGORIES:Cinéma
END:VEVENT
END:VCALENDAR