BEGIN:VCALENDAR
VERSION:2.0
PRODID:-//Commune de Stetten - ECPv6.15.13//NONSGML v1.0//EN
CALSCALE:GREGORIAN
METHOD:PUBLISH
X-ORIGINAL-URL:https://www.stetten.fr
X-WR-CALDESC:Évènements pour Commune de Stetten
REFRESH-INTERVAL;VALUE=DURATION:PT1H
X-Robots-Tag:noindex
X-PUBLISHED-TTL:PT1H
BEGIN:VTIMEZONE
TZID:Europe/Paris
BEGIN:DAYLIGHT
TZOFFSETFROM:+0100
TZOFFSETTO:+0200
TZNAME:CEST
DTSTART:20230326T010000
END:DAYLIGHT
BEGIN:STANDARD
TZOFFSETFROM:+0200
TZOFFSETTO:+0100
TZNAME:CET
DTSTART:20231029T010000
END:STANDARD
BEGIN:DAYLIGHT
TZOFFSETFROM:+0100
TZOFFSETTO:+0200
TZNAME:CEST
DTSTART:20240331T010000
END:DAYLIGHT
BEGIN:STANDARD
TZOFFSETFROM:+0200
TZOFFSETTO:+0100
TZNAME:CET
DTSTART:20241027T010000
END:STANDARD
BEGIN:DAYLIGHT
TZOFFSETFROM:+0100
TZOFFSETTO:+0200
TZNAME:CEST
DTSTART:20250330T010000
END:DAYLIGHT
BEGIN:STANDARD
TZOFFSETFROM:+0200
TZOFFSETTO:+0100
TZNAME:CET
DTSTART:20251026T010000
END:STANDARD
END:VTIMEZONE
BEGIN:VEVENT
DTSTART;TZID=Europe/Paris:20241011T200000
DTEND;TZID=Europe/Paris:20241011T230000
DTSTAMP:20260423T033655
CREATED:20240924T092632Z
LAST-MODIFIED:20240924T092632Z
UID:1564-1728676800-1728687600@www.stetten.fr
SUMMARY:Ciné-débat : La Rivière
DESCRIPTION:Film de Dominique Marchais.\n \nEntre Pyrénées et Atlantique coulent des rivières puissantes appelées gaves. Les champs de maïs les assoiffent\, les barrages bloquent la circulation des saumons. L’activité humaine bouleverse le cycle de l’eau et la biodiversité de la rivière.\nUn regard curieux et amoureux vers ce monde fascinant de beauté et de désastre.\n\nSoirée animée par l’association Alsace Nature.\nTemps d’échange avec Joseph Baumann du réseau eau d’Alsace Nature et référent du groupe local Saint-Louis 3 Frontières.\nCe sera l’occasion d’évoquer l’état de nos rivières locales qui se meurent.\n \nPlein Tarif : 5\,00€\nTarif réduit : 4\,00€
URL:https://www.stetten.fr/event/cine-debat-la-riviere/
LOCATION:Salle polyvalente\, 5 rue des vignes\, Stetten\, 68510\, France
CATEGORIES:Cinéma
END:VEVENT
END:VCALENDAR