BEGIN:VCALENDAR
VERSION:2.0
PRODID:-//Commune de Stetten - ECPv6.15.13//NONSGML v1.0//EN
CALSCALE:GREGORIAN
METHOD:PUBLISH
X-WR-CALNAME:Commune de Stetten
X-ORIGINAL-URL:https://www.stetten.fr
X-WR-CALDESC:Évènements pour Commune de Stetten
REFRESH-INTERVAL;VALUE=DURATION:PT1H
X-Robots-Tag:noindex
X-PUBLISHED-TTL:PT1H
BEGIN:VTIMEZONE
TZID:Europe/Paris
BEGIN:DAYLIGHT
TZOFFSETFROM:+0100
TZOFFSETTO:+0200
TZNAME:CEST
DTSTART:20230326T010000
END:DAYLIGHT
BEGIN:STANDARD
TZOFFSETFROM:+0200
TZOFFSETTO:+0100
TZNAME:CET
DTSTART:20231029T010000
END:STANDARD
BEGIN:DAYLIGHT
TZOFFSETFROM:+0100
TZOFFSETTO:+0200
TZNAME:CEST
DTSTART:20240331T010000
END:DAYLIGHT
BEGIN:STANDARD
TZOFFSETFROM:+0200
TZOFFSETTO:+0100
TZNAME:CET
DTSTART:20241027T010000
END:STANDARD
BEGIN:DAYLIGHT
TZOFFSETFROM:+0100
TZOFFSETTO:+0200
TZNAME:CEST
DTSTART:20250330T010000
END:DAYLIGHT
BEGIN:STANDARD
TZOFFSETFROM:+0200
TZOFFSETTO:+0100
TZNAME:CET
DTSTART:20251026T010000
END:STANDARD
END:VTIMEZONE
BEGIN:VEVENT
DTSTART;TZID=Europe/Paris:20240405T200000
DTEND;TZID=Europe/Paris:20240405T223000
DTSTAMP:20260423T121649
CREATED:20240401T092151Z
LAST-MODIFIED:20240401T092151Z
UID:1511-1712347200-1712356200@www.stetten.fr
SUMMARY:Ciné : Cocorico
DESCRIPTION:COCORICO\n\nComédie\nFilm de Julien Hervé\nAvec: Christian Clavier\, Didier Bourdon…\nDurée: 1h31 \nSur le point de se marier\, Alice et François décident de réunir leurs deux familles. \nPour l’occasion\, ils réservent à leurs parents un cadeau original : des tests ADN pour que chacun puisse découvrir les origines de ses ancêtres. \nMais la surprise va virer aufiasco quand les Bouvier-Sauvage\, grande famille aristocrate\, et les Martin\, beaucoup plus modestes\, découvrent les résultats\, pour le moins… inattendus ! \n20h00: ouverture du bar\n20h30: film \nPlein Tarif : 5\,00€\nTarif réduit : 4\,00€
URL:https://www.stetten.fr/event/cine-cocorico/
LOCATION:Salle polyvalente\, 5 rue des vignes\, Stetten\, 68510\, France
CATEGORIES:Cinéma
END:VEVENT
END:VCALENDAR