BEGIN:VCALENDAR
VERSION:2.0
PRODID:-//Commune de Stetten - ECPv6.15.13//NONSGML v1.0//EN
CALSCALE:GREGORIAN
METHOD:PUBLISH
X-ORIGINAL-URL:https://www.stetten.fr
X-WR-CALDESC:Évènements pour Commune de Stetten
REFRESH-INTERVAL;VALUE=DURATION:PT1H
X-Robots-Tag:noindex
X-PUBLISHED-TTL:PT1H
BEGIN:VTIMEZONE
TZID:Europe/Paris
BEGIN:DAYLIGHT
TZOFFSETFROM:+0100
TZOFFSETTO:+0200
TZNAME:CEST
DTSTART:20220327T010000
END:DAYLIGHT
BEGIN:STANDARD
TZOFFSETFROM:+0200
TZOFFSETTO:+0100
TZNAME:CET
DTSTART:20221030T010000
END:STANDARD
BEGIN:DAYLIGHT
TZOFFSETFROM:+0100
TZOFFSETTO:+0200
TZNAME:CEST
DTSTART:20230326T010000
END:DAYLIGHT
BEGIN:STANDARD
TZOFFSETFROM:+0200
TZOFFSETTO:+0100
TZNAME:CET
DTSTART:20231029T010000
END:STANDARD
BEGIN:DAYLIGHT
TZOFFSETFROM:+0100
TZOFFSETTO:+0200
TZNAME:CEST
DTSTART:20240331T010000
END:DAYLIGHT
BEGIN:STANDARD
TZOFFSETFROM:+0200
TZOFFSETTO:+0100
TZNAME:CET
DTSTART:20241027T010000
END:STANDARD
END:VTIMEZONE
BEGIN:VEVENT
DTSTART;TZID=Europe/Paris:20231215T200000
DTEND;TZID=Europe/Paris:20231215T223000
DTSTAMP:20260423T193333
CREATED:20231009T182839Z
LAST-MODIFIED:20231018T081451Z
UID:1359-1702670400-1702679400@www.stetten.fr
SUMMARY:Ciné : Une année difficile
DESCRIPTION:Une année difficile\nDe Eric Toledano et Olivier Nakache\nAvec Pio Marmaï\, Jonathan Cohen\, Noémie Merlant\nDurée : 1h59 \nAlbert et Bruno sont surendettés et en bout de course\, c’est dans le chemin associatif qu’ils empruntent ensemble qu’ils croisent des jeunes militants écolos. Plus attirés par la bière et les chips gratuites que par leurs arguments\, ils vont peu à peu intégrer le mouvement sans conviction… \n\n20h00 : Ouverture du bar\n20H30 : Film
URL:https://www.stetten.fr/event/cine-12/
LOCATION:Salle polyvalente\, 5 rue des vignes\, Stetten\, 68510\, France
CATEGORIES:Cinéma
END:VEVENT
END:VCALENDAR