BEGIN:VCALENDAR
VERSION:2.0
PRODID:-//Commune de Stetten - ECPv6.15.13//NONSGML v1.0//EN
CALSCALE:GREGORIAN
METHOD:PUBLISH
X-ORIGINAL-URL:https://www.stetten.fr
X-WR-CALDESC:Évènements pour Commune de Stetten
REFRESH-INTERVAL;VALUE=DURATION:PT1H
X-Robots-Tag:noindex
X-PUBLISHED-TTL:PT1H
BEGIN:VTIMEZONE
TZID:Europe/Paris
BEGIN:DAYLIGHT
TZOFFSETFROM:+0100
TZOFFSETTO:+0200
TZNAME:CEST
DTSTART:20220327T010000
END:DAYLIGHT
BEGIN:STANDARD
TZOFFSETFROM:+0200
TZOFFSETTO:+0100
TZNAME:CET
DTSTART:20221030T010000
END:STANDARD
BEGIN:DAYLIGHT
TZOFFSETFROM:+0100
TZOFFSETTO:+0200
TZNAME:CEST
DTSTART:20230326T010000
END:DAYLIGHT
BEGIN:STANDARD
TZOFFSETFROM:+0200
TZOFFSETTO:+0100
TZNAME:CET
DTSTART:20231029T010000
END:STANDARD
BEGIN:DAYLIGHT
TZOFFSETFROM:+0100
TZOFFSETTO:+0200
TZNAME:CEST
DTSTART:20240331T010000
END:DAYLIGHT
BEGIN:STANDARD
TZOFFSETFROM:+0200
TZOFFSETTO:+0100
TZNAME:CET
DTSTART:20241027T010000
END:STANDARD
END:VTIMEZONE
BEGIN:VEVENT
DTSTART;TZID=Europe/Paris:20230920T090000
DTEND;TZID=Europe/Paris:20230920T100000
DTSTAMP:20260424T003210
CREATED:20230914T183614Z
LAST-MODIFIED:20230914T183624Z
UID:1294-1695200400-1695204000@www.stetten.fr
SUMMARY:Gymnastique douce
DESCRIPTION:
URL:https://www.stetten.fr/event/gymnastique-douce-3/
LOCATION:Salle polyvalente\, 5 rue des vignes\, Stetten\, 68510\, France
END:VEVENT
BEGIN:VEVENT
DTSTART;TZID=Europe/Paris:20230920T101500
DTEND;TZID=Europe/Paris:20230920T111500
DTSTAMP:20260424T003210
CREATED:20230914T183650Z
LAST-MODIFIED:20230914T183650Z
UID:1297-1695204900-1695208500@www.stetten.fr
SUMMARY:Gymnastique tonique
DESCRIPTION:
URL:https://www.stetten.fr/event/gymnastique-tonique-3/
LOCATION:Salle polyvalente\, 5 rue des vignes\, Stetten\, 68510\, France
END:VEVENT
END:VCALENDAR