BEGIN:VCALENDAR
VERSION:2.0
PRODID:-//Commune de Stetten - ECPv6.15.13//NONSGML v1.0//EN
CALSCALE:GREGORIAN
METHOD:PUBLISH
X-WR-CALNAME:Commune de Stetten
X-ORIGINAL-URL:https://www.stetten.fr
X-WR-CALDESC:Évènements pour Commune de Stetten
REFRESH-INTERVAL;VALUE=DURATION:PT1H
X-Robots-Tag:noindex
X-PUBLISHED-TTL:PT1H
BEGIN:VTIMEZONE
TZID:Europe/Paris
BEGIN:DAYLIGHT
TZOFFSETFROM:+0100
TZOFFSETTO:+0200
TZNAME:CEST
DTSTART:20220327T010000
END:DAYLIGHT
BEGIN:STANDARD
TZOFFSETFROM:+0200
TZOFFSETTO:+0100
TZNAME:CET
DTSTART:20221030T010000
END:STANDARD
BEGIN:DAYLIGHT
TZOFFSETFROM:+0100
TZOFFSETTO:+0200
TZNAME:CEST
DTSTART:20230326T010000
END:DAYLIGHT
BEGIN:STANDARD
TZOFFSETFROM:+0200
TZOFFSETTO:+0100
TZNAME:CET
DTSTART:20231029T010000
END:STANDARD
BEGIN:DAYLIGHT
TZOFFSETFROM:+0100
TZOFFSETTO:+0200
TZNAME:CEST
DTSTART:20240331T010000
END:DAYLIGHT
BEGIN:STANDARD
TZOFFSETFROM:+0200
TZOFFSETTO:+0100
TZNAME:CET
DTSTART:20241027T010000
END:STANDARD
END:VTIMEZONE
BEGIN:VEVENT
DTSTART;TZID=Europe/Paris:20230915T200000
DTEND;TZID=Europe/Paris:20230915T223000
DTSTAMP:20260424T003736
CREATED:20230914T183506Z
LAST-MODIFIED:20230914T183506Z
UID:1291-1694808000-1694817000@www.stetten.fr
SUMMARY:Ciné : Barbie
DESCRIPTION:BARBIE\n\n20h00 : ouverture du bar\n20h30 : film\n\n \nAvec : Margot Robbie\, Ryan Gosling\nDurée : 1h55\nBarbie Land\, vous êtes un être parfait dans un monde parfait. Sauf si vous êtes en crise existentielle ou si vous êtes Ken.
URL:https://www.stetten.fr/event/cine-barbie/
LOCATION:Salle polyvalente\, 5 rue des vignes\, Stetten\, 68510\, France
CATEGORIES:Cinéma
END:VEVENT
END:VCALENDAR