BEGIN:VCALENDAR
VERSION:2.0
PRODID:-//Commune de Stetten - ECPv6.15.13//NONSGML v1.0//EN
CALSCALE:GREGORIAN
METHOD:PUBLISH
X-WR-CALNAME:Commune de Stetten
X-ORIGINAL-URL:http://www.stetten.fr
X-WR-CALDESC:Évènements pour Commune de Stetten
REFRESH-INTERVAL;VALUE=DURATION:PT1H
X-Robots-Tag:noindex
X-PUBLISHED-TTL:PT1H
BEGIN:VTIMEZONE
TZID:Europe/Paris
BEGIN:DAYLIGHT
TZOFFSETFROM:+0100
TZOFFSETTO:+0200
TZNAME:CEST
DTSTART:20220327T010000
END:DAYLIGHT
BEGIN:STANDARD
TZOFFSETFROM:+0200
TZOFFSETTO:+0100
TZNAME:CET
DTSTART:20221030T010000
END:STANDARD
BEGIN:DAYLIGHT
TZOFFSETFROM:+0100
TZOFFSETTO:+0200
TZNAME:CEST
DTSTART:20230326T010000
END:DAYLIGHT
BEGIN:STANDARD
TZOFFSETFROM:+0200
TZOFFSETTO:+0100
TZNAME:CET
DTSTART:20231029T010000
END:STANDARD
BEGIN:DAYLIGHT
TZOFFSETFROM:+0100
TZOFFSETTO:+0200
TZNAME:CEST
DTSTART:20240331T010000
END:DAYLIGHT
BEGIN:STANDARD
TZOFFSETFROM:+0200
TZOFFSETTO:+0100
TZNAME:CET
DTSTART:20241027T010000
END:STANDARD
END:VTIMEZONE
BEGIN:VEVENT
DTSTART;TZID=Europe/Paris:20230608T200000
DTEND;TZID=Europe/Paris:20230608T223000
DTSTAMP:20260425T014628
CREATED:20230508T171349Z
LAST-MODIFIED:20230508T171349Z
UID:1212-1686254400-1686263400@www.stetten.fr
SUMMARY:Ciné : Quiet Girl
DESCRIPTION:QUIET GIRL\n\n20h00 : ouverture du bar\n20h30 : film\n\n \nFilm de Colm Bairead\nAvec : Catherine Clinch\, Carrie Crowley\, Andrew Bennett\nDurée : 1h36 VO sous-titré français.\nIrlande\, 1981\, Cáit\, une jeune fille effacée et négligée par sa famille\, est envoyée vivre auprès de parents éloignés pendant l’été. \nMais dans cette maison en apparence sans secret\, où elle trouve l’épanouissement et l’affection\, Cáit découvre une vérité douloureuse.
URL:http://www.stetten.fr/event/cine-quiet-girl/
LOCATION:Salle polyvalente\, 5 rue des vignes\, Stetten\, 68510\, France
CATEGORIES:Cinéma
END:VEVENT
END:VCALENDAR