BEGIN:VCALENDAR
VERSION:2.0
PRODID:-//Commune de Stetten - ECPv6.15.13//NONSGML v1.0//EN
CALSCALE:GREGORIAN
METHOD:PUBLISH
X-ORIGINAL-URL:http://www.stetten.fr
X-WR-CALDESC:Évènements pour Commune de Stetten
REFRESH-INTERVAL;VALUE=DURATION:PT1H
X-Robots-Tag:noindex
X-PUBLISHED-TTL:PT1H
BEGIN:VTIMEZONE
TZID:Europe/Paris
BEGIN:DAYLIGHT
TZOFFSETFROM:+0100
TZOFFSETTO:+0200
TZNAME:CEST
DTSTART:20220327T010000
END:DAYLIGHT
BEGIN:STANDARD
TZOFFSETFROM:+0200
TZOFFSETTO:+0100
TZNAME:CET
DTSTART:20221030T010000
END:STANDARD
BEGIN:DAYLIGHT
TZOFFSETFROM:+0100
TZOFFSETTO:+0200
TZNAME:CEST
DTSTART:20230326T010000
END:DAYLIGHT
BEGIN:STANDARD
TZOFFSETFROM:+0200
TZOFFSETTO:+0100
TZNAME:CET
DTSTART:20231029T010000
END:STANDARD
BEGIN:DAYLIGHT
TZOFFSETFROM:+0100
TZOFFSETTO:+0200
TZNAME:CEST
DTSTART:20240331T010000
END:DAYLIGHT
BEGIN:STANDARD
TZOFFSETFROM:+0200
TZOFFSETTO:+0100
TZNAME:CET
DTSTART:20241027T010000
END:STANDARD
END:VTIMEZONE
BEGIN:VEVENT
DTSTART;TZID=Europe/Paris:20230428T200000
DTEND;TZID=Europe/Paris:20230428T223000
DTSTAMP:20260425T033657
CREATED:20230318T081312Z
LAST-MODIFIED:20230318T081312Z
UID:1162-1682712000-1682721000@www.stetten.fr
SUMMARY:Ciné : Mon crime
DESCRIPTION:MON CRIME\n\n20h00 : ouverture du bar\n20h30 : film\n\n \nFilm de François Ozon\nAvec : Nadia Tereszkiewicz\, Rebecca Marder\, Isabelle Huppert\, Fabrice Luchini\, Dany Boon\nDurée : 1h42\nDans les années 30 à Paris\, Madeleine Verdier\, jeune et jolie actrice sans le sou et sans talent\, est accusée du meurtre d’un célèbre producteur. Aidée de sa meilleure amie Pauline\, jeune avocate au chômage\, elle est acquittée pour légitime défense. Commence alors une nouvelle vie\, faite de gloire et de succès\, jusqu’à ce que la vérité éclate au grand jour…
URL:http://www.stetten.fr/event/cine-mon-crime/
LOCATION:Salle polyvalente\, 5 rue des vignes\, Stetten\, 68510\, France
CATEGORIES:Cinéma
END:VEVENT
END:VCALENDAR