BEGIN:VCALENDAR
VERSION:2.0
PRODID:-//Commune de Stetten - ECPv6.15.13//NONSGML v1.0//EN
CALSCALE:GREGORIAN
METHOD:PUBLISH
X-ORIGINAL-URL:http://www.stetten.fr
X-WR-CALDESC:Évènements pour Commune de Stetten
REFRESH-INTERVAL;VALUE=DURATION:PT1H
X-Robots-Tag:noindex
X-PUBLISHED-TTL:PT1H
BEGIN:VTIMEZONE
TZID:Europe/Paris
BEGIN:DAYLIGHT
TZOFFSETFROM:+0100
TZOFFSETTO:+0200
TZNAME:CEST
DTSTART:20220327T010000
END:DAYLIGHT
BEGIN:STANDARD
TZOFFSETFROM:+0200
TZOFFSETTO:+0100
TZNAME:CET
DTSTART:20221030T010000
END:STANDARD
BEGIN:DAYLIGHT
TZOFFSETFROM:+0100
TZOFFSETTO:+0200
TZNAME:CEST
DTSTART:20230326T010000
END:DAYLIGHT
BEGIN:STANDARD
TZOFFSETFROM:+0200
TZOFFSETTO:+0100
TZNAME:CET
DTSTART:20231029T010000
END:STANDARD
BEGIN:DAYLIGHT
TZOFFSETFROM:+0100
TZOFFSETTO:+0200
TZNAME:CEST
DTSTART:20240331T010000
END:DAYLIGHT
BEGIN:STANDARD
TZOFFSETFROM:+0200
TZOFFSETTO:+0100
TZNAME:CET
DTSTART:20241027T010000
END:STANDARD
END:VTIMEZONE
BEGIN:VEVENT
DTSTART;TZID=Europe/Paris:20230310T200000
DTEND;TZID=Europe/Paris:20230310T223000
DTSTAMP:20260425T051459
CREATED:20221222T193227Z
LAST-MODIFIED:20240319T072549Z
UID:1083-1678478400-1678487400@www.stetten.fr
SUMMARY:Ciné : Les bonnes étoiles
DESCRIPTION:LES BONNES ÉTOILES\n \nFILM CORÉEN DE : HIROKAZU KORE -EDO (Palme d’or au Festival de Cannes 2018 avec Un air de famille)\nAVEC: Song Kang-ho Prix d’interprétation masculine du Festival de Cannes\nDurée : 2h00\nVO sous-titre VF\n \nEntre Busan et Séoul\, en Corée du Sud\, un road-trip sensible et émouvant qui met des étoiles plein les yeux \nPar une nuit pluvieuse\, une jeune femme abandonne son bébé. Il est récupéré illégalement par deux hommes\, bien décidés à lui trouver une nouvelle famille. \nLors d’un périple insolite et inattendu à travers le pays\, le destin de ceux qui rencontreront cet enfant sera profondément changé.
URL:http://www.stetten.fr/event/cine-8/
LOCATION:Salle polyvalente\, 5 rue des vignes\, Stetten\, 68510\, France
CATEGORIES:Cinéma
END:VEVENT
END:VCALENDAR