BEGIN:VCALENDAR
VERSION:2.0
PRODID:-//Commune de Stetten - ECPv6.15.13//NONSGML v1.0//EN
CALSCALE:GREGORIAN
METHOD:PUBLISH
X-ORIGINAL-URL:http://www.stetten.fr
X-WR-CALDESC:Évènements pour Commune de Stetten
REFRESH-INTERVAL;VALUE=DURATION:PT1H
X-Robots-Tag:noindex
X-PUBLISHED-TTL:PT1H
BEGIN:VTIMEZONE
TZID:Europe/Paris
BEGIN:DAYLIGHT
TZOFFSETFROM:+0100
TZOFFSETTO:+0200
TZNAME:CEST
DTSTART:20220327T010000
END:DAYLIGHT
BEGIN:STANDARD
TZOFFSETFROM:+0200
TZOFFSETTO:+0100
TZNAME:CET
DTSTART:20221030T010000
END:STANDARD
BEGIN:DAYLIGHT
TZOFFSETFROM:+0100
TZOFFSETTO:+0200
TZNAME:CEST
DTSTART:20230326T010000
END:DAYLIGHT
BEGIN:STANDARD
TZOFFSETFROM:+0200
TZOFFSETTO:+0100
TZNAME:CET
DTSTART:20231029T010000
END:STANDARD
BEGIN:DAYLIGHT
TZOFFSETFROM:+0100
TZOFFSETTO:+0200
TZNAME:CEST
DTSTART:20240331T010000
END:DAYLIGHT
BEGIN:STANDARD
TZOFFSETFROM:+0200
TZOFFSETTO:+0100
TZNAME:CET
DTSTART:20241027T010000
END:STANDARD
END:VTIMEZONE
BEGIN:VEVENT
DTSTART;TZID=Europe/Paris:20230210T193000
DTEND;TZID=Europe/Paris:20230210T223000
DTSTAMP:20260425T050933
CREATED:20221222T193005Z
LAST-MODIFIED:20240319T072556Z
UID:1071-1676057400-1676068200@www.stetten.fr
SUMMARY:Ciné : As Bestas
DESCRIPTION:Exceptionnellement \nOuverture du bar : 19h30\nFilm : 20h00 \nAS BESTAS \nUn des grands films de l’année 2022 puissant\, captivant avec des acteurs exceptionnels \nDe Rodrigo Sorogoven \nAvec: Marina Fois\, Denis Manochet\, Luis Zahea \nThriller\, drame \nDurée: 2h17 \nAntoine et Olga\, un couple de Français\, sont installés depuis longtemps dans un petit village de Galice. Ils ont une ferme et restaurent des maisons abandonnées pour faciliter le repeuplement. Tout devrait être idyllique mais un grave conflit avec leurs voisins fait monter la tension jusqu’à l’irréparable…
URL:http://www.stetten.fr/event/cine-5/
LOCATION:Salle polyvalente\, 5 rue des vignes\, Stetten\, 68510\, France
CATEGORIES:Cinéma
END:VEVENT
BEGIN:VEVENT
DTSTART;TZID=Europe/Paris:20230224T200000
DTEND;TZID=Europe/Paris:20230224T223000
DTSTAMP:20260425T050933
CREATED:20221222T193049Z
LAST-MODIFIED:20230205T092621Z
UID:1075-1677268800-1677277800@www.stetten.fr
SUMMARY:Ciné : Fire of Love
DESCRIPTION:Fire of Love\n1h 38min / Documentaire\nDe Sara Dosa\nPar Shane Boris\, Erin Casper\nKatia et Maurice Krafft\, volcanologues intrépides\, s’aimaient passionnément. Pendant deux décennies\, ce couple de Français a parcouru la planète\, traquant les éruptions et documentant leurs découvertes. Emportés par une explosion volcanique en 1991\, ils laissent derrière eux un héritage qui a enrichi à jamais notre connaissance du monde naturel. À partir de leurs spectaculaires images d’archives\, la réalisatrice Sara Dosa nous embarque dans leurs périples aux quatre coins du monde et dans une expérience de cinéma hypnotique sur le couple\, l’amour\, le temps et l’ambition des hommes et des femmes à tenter de percer les mystères de la nature.
URL:http://www.stetten.fr/event/cine-6/
LOCATION:Salle polyvalente\, 5 rue des vignes\, Stetten\, 68510\, France
CATEGORIES:Cinéma
END:VEVENT
END:VCALENDAR